BEGIN:VCALENDAR
VERSION:2.0
PRODID:-//City of Bellevue, Ky - ECPv6.15.20//NONSGML v1.0//EN
CALSCALE:GREGORIAN
METHOD:PUBLISH
X-ORIGINAL-URL:https://bellevueky.org
X-WR-CALDESC:Events for City of Bellevue, Ky
REFRESH-INTERVAL;VALUE=DURATION:PT1H
X-Robots-Tag:noindex
X-PUBLISHED-TTL:PT1H
BEGIN:VTIMEZONE
TZID:America/New_York
BEGIN:DAYLIGHT
TZOFFSETFROM:-0500
TZOFFSETTO:-0400
TZNAME:EDT
DTSTART:20230312T070000
END:DAYLIGHT
BEGIN:STANDARD
TZOFFSETFROM:-0400
TZOFFSETTO:-0500
TZNAME:EST
DTSTART:20231105T060000
END:STANDARD
BEGIN:DAYLIGHT
TZOFFSETFROM:-0500
TZOFFSETTO:-0400
TZNAME:EDT
DTSTART:20240310T070000
END:DAYLIGHT
BEGIN:STANDARD
TZOFFSETFROM:-0400
TZOFFSETTO:-0500
TZNAME:EST
DTSTART:20241103T060000
END:STANDARD
BEGIN:DAYLIGHT
TZOFFSETFROM:-0500
TZOFFSETTO:-0400
TZNAME:EDT
DTSTART:20250309T070000
END:DAYLIGHT
BEGIN:STANDARD
TZOFFSETFROM:-0400
TZOFFSETTO:-0500
TZNAME:EST
DTSTART:20251102T060000
END:STANDARD
END:VTIMEZONE
BEGIN:VEVENT
DTSTART;TZID=America/New_York:20240323T120000
DTEND;TZID=America/New_York:20240323T130000
DTSTAMP:20260419T204555
CREATED:20240202T150621Z
LAST-MODIFIED:20240202T150621Z
UID:24049-1711195200-1711198800@bellevueky.org
SUMMARY:Bellevue Egg Hunt
DESCRIPTION:Hop on down for an Egg Hunt and Pictures with the Bunny at the scenic Bellevue Beach Park! \nFREE Family Fun! Ages 12 and under for the Egg Hunt\, All ages welcome for pictures with the Bunny.
URL:https://bellevueky.org/event/bellevue-egg-hunt/
LOCATION:Bellevue Beach Park\, 643-665 Frank Benke Way\, Bellevue\, Kentucky\, 41073
END:VEVENT
END:VCALENDAR