BEGIN:VCALENDAR
VERSION:2.0
PRODID:-//City of Bellevue, Ky - ECPv6.15.20//NONSGML v1.0//EN
CALSCALE:GREGORIAN
METHOD:PUBLISH
X-ORIGINAL-URL:https://bellevueky.org
X-WR-CALDESC:Events for City of Bellevue, Ky
REFRESH-INTERVAL;VALUE=DURATION:PT1H
X-Robots-Tag:noindex
X-PUBLISHED-TTL:PT1H
BEGIN:VTIMEZONE
TZID:America/Kentucky/Louisville
BEGIN:DAYLIGHT
TZOFFSETFROM:-0500
TZOFFSETTO:-0400
TZNAME:EDT
DTSTART:20240310T070000
END:DAYLIGHT
BEGIN:STANDARD
TZOFFSETFROM:-0400
TZOFFSETTO:-0500
TZNAME:EST
DTSTART:20241103T060000
END:STANDARD
BEGIN:DAYLIGHT
TZOFFSETFROM:-0500
TZOFFSETTO:-0400
TZNAME:EDT
DTSTART:20250309T070000
END:DAYLIGHT
BEGIN:STANDARD
TZOFFSETFROM:-0400
TZOFFSETTO:-0500
TZNAME:EST
DTSTART:20251102T060000
END:STANDARD
BEGIN:DAYLIGHT
TZOFFSETFROM:-0500
TZOFFSETTO:-0400
TZNAME:EDT
DTSTART:20260308T070000
END:DAYLIGHT
BEGIN:STANDARD
TZOFFSETFROM:-0400
TZOFFSETTO:-0500
TZNAME:EST
DTSTART:20261101T060000
END:STANDARD
END:VTIMEZONE
BEGIN:VEVENT
DTSTART;TZID=America/Kentucky/Louisville:20251003T170000
DTEND;TZID=America/Kentucky/Louisville:20251003T200000
DTSTAMP:20260419T190449
CREATED:20250708T132939Z
LAST-MODIFIED:20250801T180903Z
UID:27342-1759510800-1759521600@bellevueky.org
SUMMARY:Fall Fest at the Beach Park | 5pm
DESCRIPTION:Join us for the City of Bellevue’s Fall Fest! This year’s festival will be held on Friday\, October 3rd\, from 5 to 9 PM at the Bellevue Beach Park. Booths will be set up throughout the park\, and an exciting event is planned. Pop-up Pumpkin Patch\, Haunted Playground\, Trick or Treat Zone & Police Cruiser Hayrides are BACK\, along with many other exciting activities. We can’t wait to unveil what we have planned.\n\n \n\n\nApply to become a vendor-\nhttps://form.jotform.com/230097450443149\n\nApply to become a Friend of Fall Fest-\nhttps://form.jotform.com/232256548096160
URL:https://bellevueky.org/event/fall-fest-at-the-beach-park-5pm/
LOCATION:Bellevue Beach Park\, 643-665 Frank Benke Way\, Bellevue\, Kentucky\, 41073
END:VEVENT
BEGIN:VEVENT
DTSTART;TZID=America/Kentucky/Louisville:20251003T180000
DTEND;TZID=America/Kentucky/Louisville:20251003T210000
DTSTAMP:20260419T190449
CREATED:20250709T155354Z
LAST-MODIFIED:20250910T142926Z
UID:27385-1759514400-1759525200@bellevueky.org
SUMMARY:First Friday: Pink With a Pourpose! #DoItForDeb | 6pm
DESCRIPTION:Come sip\, shop\, and stroll along Fairfield Avenue for our First Fridays 6-9pm! Check out more about our B In Vue Businesses at the link.
URL:https://bellevueky.org/event/first-friday-oeace-love-local-groovue-y-6pm/
LOCATION:Fairfield Avenue\, Bellevue\, KY\, 41073\, United States
END:VEVENT
END:VCALENDAR