BEGIN:VCALENDAR
VERSION:2.0
PRODID:-//City of Bellevue, Ky - ECPv6.15.20//NONSGML v1.0//EN
CALSCALE:GREGORIAN
METHOD:PUBLISH
X-ORIGINAL-URL:https://bellevueky.org
X-WR-CALDESC:Events for City of Bellevue, Ky
REFRESH-INTERVAL;VALUE=DURATION:PT1H
X-Robots-Tag:noindex
X-PUBLISHED-TTL:PT1H
BEGIN:VTIMEZONE
TZID:America/Kentucky/Louisville
BEGIN:DAYLIGHT
TZOFFSETFROM:-0500
TZOFFSETTO:-0400
TZNAME:EDT
DTSTART:20240310T070000
END:DAYLIGHT
BEGIN:STANDARD
TZOFFSETFROM:-0400
TZOFFSETTO:-0500
TZNAME:EST
DTSTART:20241103T060000
END:STANDARD
BEGIN:DAYLIGHT
TZOFFSETFROM:-0500
TZOFFSETTO:-0400
TZNAME:EDT
DTSTART:20250309T070000
END:DAYLIGHT
BEGIN:STANDARD
TZOFFSETFROM:-0400
TZOFFSETTO:-0500
TZNAME:EST
DTSTART:20251102T060000
END:STANDARD
BEGIN:DAYLIGHT
TZOFFSETFROM:-0500
TZOFFSETTO:-0400
TZNAME:EDT
DTSTART:20260308T070000
END:DAYLIGHT
BEGIN:STANDARD
TZOFFSETFROM:-0400
TZOFFSETTO:-0500
TZNAME:EST
DTSTART:20261101T060000
END:STANDARD
END:VTIMEZONE
BEGIN:VEVENT
DTSTART;TZID=America/Kentucky/Louisville:20251008T080000
DTEND;TZID=America/Kentucky/Louisville:20251012T170000
DTSTAMP:20260421T022907
CREATED:20250709T155448Z
LAST-MODIFIED:20251008T173800Z
UID:27388-1759910400-1760288400@bellevueky.org
SUMMARY:River Roots Steamboats & Sidewalks
DESCRIPTION:Shop\, Sip\, and Dine in Bellevue during the River Roots Festival from October 8- October 12. Participating Businesses are having deals and sidewalk sales to commemorate this exciting event happening in our region. More information can be found at visitbellevueky.com and the B in Vue Facebook page. \nAs America’s River Roots Festival fills the riverfront with music and history\, we’re celebrating right here on Fairfield Avenue — in one of Kentucky’s “Most Charming Small Towns!” \n \nOriginally planned as a sidewalk sale weekend\, Steamboats & Sidewalks has evolved into a chance to simply stroll our historic avenue\, explore local shops\, sip your favorite drink within our Entertainment District\, and enjoy the friendly small-town vibe Bellevue is known for.\n \nTake a walk down Foote or Washington Avenue to visit the beautiful Bellevue Beach Park\, where you’ll find Ohio River views and our new Giant Beach Chair — perfect for a photo op!\n \n(Please note: Open containers must stay on Fairfield Avenue. Trash cans are available on nearly every block.)\n \nCome sip\, shop\, and stroll the sidewalks — and make a day of it in Bellevue!
URL:https://bellevueky.org/event/river-roots-steamboats-sidewalks/
END:VEVENT
BEGIN:VEVENT
DTSTART;TZID=America/Kentucky/Louisville:20251008T190000
DTEND;TZID=America/Kentucky/Louisville:20251008T200000
DTSTAMP:20260421T022907
CREATED:20250428T192522Z
LAST-MODIFIED:20250428T192522Z
UID:27215-1759950000-1759953600@bellevueky.org
SUMMARY:City Council Meeting
DESCRIPTION:
URL:https://bellevueky.org/event/city-council-meeting-9/
LOCATION:Callahan Community Center\, 322 Van Voast
END:VEVENT
BEGIN:VEVENT
DTSTART;TZID=America/Kentucky/Louisville:20251008T190000
DTEND;TZID=America/Kentucky/Louisville:20251008T200000
DTSTAMP:20260421T022907
CREATED:20251008T145314Z
LAST-MODIFIED:20251008T145314Z
UID:27626-1759950000-1759953600@bellevueky.org
SUMMARY:Bellevue Historic Commission | 7pm
DESCRIPTION:The Historic Preservation Commission will be meeting on Wednesday\, October 8 at 7pm in the Callahan Meeting Room. Please see attached for additional meeting information. \n10.8.2025 SPECIAL MEETING Agenda
URL:https://bellevueky.org/event/bellevue-historic-commission-7pm/
LOCATION:Callahan Community Center\, 322 Van Voast
END:VEVENT
END:VCALENDAR