BEGIN:VCALENDAR
VERSION:2.0
PRODID:-//City of Bellevue, Ky - ECPv6.15.20//NONSGML v1.0//EN
CALSCALE:GREGORIAN
METHOD:PUBLISH
X-WR-CALNAME:City of Bellevue, Ky
X-ORIGINAL-URL:https://bellevueky.org
X-WR-CALDESC:Events for City of Bellevue, Ky
REFRESH-INTERVAL;VALUE=DURATION:PT1H
X-Robots-Tag:noindex
X-PUBLISHED-TTL:PT1H
BEGIN:VTIMEZONE
TZID:America/Kentucky/Louisville
BEGIN:DAYLIGHT
TZOFFSETFROM:-0500
TZOFFSETTO:-0400
TZNAME:EDT
DTSTART:20240310T070000
END:DAYLIGHT
BEGIN:STANDARD
TZOFFSETFROM:-0400
TZOFFSETTO:-0500
TZNAME:EST
DTSTART:20241103T060000
END:STANDARD
BEGIN:DAYLIGHT
TZOFFSETFROM:-0500
TZOFFSETTO:-0400
TZNAME:EDT
DTSTART:20250309T070000
END:DAYLIGHT
BEGIN:STANDARD
TZOFFSETFROM:-0400
TZOFFSETTO:-0500
TZNAME:EST
DTSTART:20251102T060000
END:STANDARD
BEGIN:DAYLIGHT
TZOFFSETFROM:-0500
TZOFFSETTO:-0400
TZNAME:EDT
DTSTART:20260308T070000
END:DAYLIGHT
BEGIN:STANDARD
TZOFFSETFROM:-0400
TZOFFSETTO:-0500
TZNAME:EST
DTSTART:20261101T060000
END:STANDARD
END:VTIMEZONE
BEGIN:VEVENT
DTSTART;TZID=America/Kentucky/Louisville:20251017T193000
DTEND;TZID=America/Kentucky/Louisville:20251017T203000
DTSTAMP:20260421T071518
CREATED:20251001T181935Z
LAST-MODIFIED:20251001T181958Z
UID:27553-1760729400-1760733000@bellevueky.org
SUMMARY:Boo in the Vue- Fairfield Avenue Ghost Tour | 7:30pm
DESCRIPTION:Back by popular demand!\n\nBoo in the Vue- Fairfield Avenue Ghost Tour\n\nJoin us for a ghostly adventure! Bellevue historians Jim and Bev McPhail will guide you through an eerie tour filled with ghost stories and urban legends around Bellevue.\n\nTour starts at 119 Fairfield Ave promptly on October 17 at 7:30pm. This event is FREE and open to the public. Don’t miss out!\n\n\nhttps://facebook.com/events/s/boo-in-the-vue-fairfield-avenu/1290865015644204/
URL:https://bellevueky.org/event/boo-in-the-vue-fairfield-avenue-ghost-tour-730pm/
LOCATION:119 Fairfield Ave
END:VEVENT
END:VCALENDAR