BEGIN:VCALENDAR
VERSION:2.0
PRODID:-//City of Bellevue, Ky - ECPv6.15.20//NONSGML v1.0//EN
CALSCALE:GREGORIAN
METHOD:PUBLISH
X-WR-CALNAME:City of Bellevue, Ky
X-ORIGINAL-URL:https://bellevueky.org
X-WR-CALDESC:Events for City of Bellevue, Ky
REFRESH-INTERVAL;VALUE=DURATION:PT1H
X-Robots-Tag:noindex
X-PUBLISHED-TTL:PT1H
BEGIN:VTIMEZONE
TZID:America/Kentucky/Louisville
BEGIN:DAYLIGHT
TZOFFSETFROM:-0500
TZOFFSETTO:-0400
TZNAME:EDT
DTSTART:20240310T070000
END:DAYLIGHT
BEGIN:STANDARD
TZOFFSETFROM:-0400
TZOFFSETTO:-0500
TZNAME:EST
DTSTART:20241103T060000
END:STANDARD
BEGIN:DAYLIGHT
TZOFFSETFROM:-0500
TZOFFSETTO:-0400
TZNAME:EDT
DTSTART:20250309T070000
END:DAYLIGHT
BEGIN:STANDARD
TZOFFSETFROM:-0400
TZOFFSETTO:-0500
TZNAME:EST
DTSTART:20251102T060000
END:STANDARD
BEGIN:DAYLIGHT
TZOFFSETFROM:-0500
TZOFFSETTO:-0400
TZNAME:EDT
DTSTART:20260308T070000
END:DAYLIGHT
BEGIN:STANDARD
TZOFFSETFROM:-0400
TZOFFSETTO:-0500
TZNAME:EST
DTSTART:20261101T060000
END:STANDARD
END:VTIMEZONE
BEGIN:VEVENT
DTSTART;VALUE=DATE:20251103
DTEND;VALUE=DATE:20251108
DTSTAMP:20260420T075311
CREATED:20251027T125633Z
LAST-MODIFIED:20251027T130104Z
UID:27729-1762128000-1762559999@bellevueky.org
SUMMARY:Road Resurfacing 2025
DESCRIPTION:Road Crews will be in the city resurfacing the week of November 3. More information to follow.
URL:https://bellevueky.org/event/road-resurfacing-2025/
END:VEVENT
BEGIN:VEVENT
DTSTART;TZID=America/Kentucky/Louisville:20251104T173000
DTEND;TZID=America/Kentucky/Louisville:20251104T183000
DTSTAMP:20260420T075311
CREATED:20251028T130802Z
LAST-MODIFIED:20251103T162910Z
UID:27740-1762277400-1762281000@bellevueky.org
SUMMARY:Special meeting of the Tree Commission | 5:30pm
DESCRIPTION:A special meeting of the Tree Commission will be taking place on Tuesday\, November 4 at 5:30pm in the Callahan Center. Tree Commission Agenda 11-4-25.docx
URL:https://bellevueky.org/event/special-meeting-of-the-tree-commission-530pm/
LOCATION:Callahan Community Center\, 322 Van Voast
END:VEVENT
END:VCALENDAR