BEGIN:VCALENDAR
VERSION:2.0
PRODID:-//City of Bellevue, Ky - ECPv6.15.20//NONSGML v1.0//EN
CALSCALE:GREGORIAN
METHOD:PUBLISH
X-ORIGINAL-URL:https://bellevueky.org
X-WR-CALDESC:Events for City of Bellevue, Ky
REFRESH-INTERVAL;VALUE=DURATION:PT1H
X-Robots-Tag:noindex
X-PUBLISHED-TTL:PT1H
BEGIN:VTIMEZONE
TZID:America/Kentucky/Louisville
BEGIN:DAYLIGHT
TZOFFSETFROM:-0500
TZOFFSETTO:-0400
TZNAME:EDT
DTSTART:20240310T070000
END:DAYLIGHT
BEGIN:STANDARD
TZOFFSETFROM:-0400
TZOFFSETTO:-0500
TZNAME:EST
DTSTART:20241103T060000
END:STANDARD
BEGIN:DAYLIGHT
TZOFFSETFROM:-0500
TZOFFSETTO:-0400
TZNAME:EDT
DTSTART:20250309T070000
END:DAYLIGHT
BEGIN:STANDARD
TZOFFSETFROM:-0400
TZOFFSETTO:-0500
TZNAME:EST
DTSTART:20251102T060000
END:STANDARD
BEGIN:DAYLIGHT
TZOFFSETFROM:-0500
TZOFFSETTO:-0400
TZNAME:EDT
DTSTART:20260308T070000
END:DAYLIGHT
BEGIN:STANDARD
TZOFFSETFROM:-0400
TZOFFSETTO:-0500
TZNAME:EST
DTSTART:20261101T060000
END:STANDARD
END:VTIMEZONE
BEGIN:VEVENT
DTSTART;VALUE=DATE:20251111
DTEND;VALUE=DATE:20251112
DTSTAMP:20260421T040219
CREATED:20251107T162556Z
LAST-MODIFIED:20251112T162705Z
UID:27789-1762819200-1762905599@bellevueky.org
SUMMARY:City Building Closed
DESCRIPTION:The City Building will be closed in observation of Veterans Day.
URL:https://bellevueky.org/event/city-building-closed-18/
END:VEVENT
BEGIN:VEVENT
DTSTART;TZID=America/Kentucky/Louisville:20251111T190000
DTEND;TZID=America/Kentucky/Louisville:20251111T210000
DTSTAMP:20260421T040219
CREATED:20251013T140319Z
LAST-MODIFIED:20251013T140319Z
UID:27673-1762887600-1762894800@bellevueky.org
SUMMARY:River City Trivia Night | 7pm
DESCRIPTION:The Ludlow Historic Society has partnered with the Knowledge Bar for a River City Trivia Night on Tuesday November 11th from 7-9. The event is free. The MC for the event is our own local historian\, Dave Schroeder. The evening will be a great night with trivia from NKY river cities. The Ludlow Historic Society would like to share the details of the evening hoping that folks from other river cities would like to join in on the fun. \nFacebook Event Link
URL:https://bellevueky.org/event/river-city-trivia-night-7pm/
END:VEVENT
END:VCALENDAR