BEGIN:VCALENDAR
VERSION:2.0
PRODID:-//City of Bellevue, Ky - ECPv6.15.20//NONSGML v1.0//EN
CALSCALE:GREGORIAN
METHOD:PUBLISH
X-ORIGINAL-URL:https://bellevueky.org
X-WR-CALDESC:Events for City of Bellevue, Ky
REFRESH-INTERVAL;VALUE=DURATION:PT1H
X-Robots-Tag:noindex
X-PUBLISHED-TTL:PT1H
BEGIN:VTIMEZONE
TZID:America/Kentucky/Louisville
BEGIN:DAYLIGHT
TZOFFSETFROM:-0500
TZOFFSETTO:-0400
TZNAME:EDT
DTSTART:20240310T070000
END:DAYLIGHT
BEGIN:STANDARD
TZOFFSETFROM:-0400
TZOFFSETTO:-0500
TZNAME:EST
DTSTART:20241103T060000
END:STANDARD
BEGIN:DAYLIGHT
TZOFFSETFROM:-0500
TZOFFSETTO:-0400
TZNAME:EDT
DTSTART:20250309T070000
END:DAYLIGHT
BEGIN:STANDARD
TZOFFSETFROM:-0400
TZOFFSETTO:-0500
TZNAME:EST
DTSTART:20251102T060000
END:STANDARD
BEGIN:DAYLIGHT
TZOFFSETFROM:-0500
TZOFFSETTO:-0400
TZNAME:EDT
DTSTART:20260308T070000
END:DAYLIGHT
BEGIN:STANDARD
TZOFFSETFROM:-0400
TZOFFSETTO:-0500
TZNAME:EST
DTSTART:20261101T060000
END:STANDARD
END:VTIMEZONE
BEGIN:VEVENT
DTSTART;VALUE=DATE:20251127
DTEND;VALUE=DATE:20251129
DTSTAMP:20260421T074608
CREATED:20251112T162825Z
LAST-MODIFIED:20251121T143618Z
UID:27791-1764201600-1764374399@bellevueky.org
SUMMARY:City Building Closed
DESCRIPTION:The City Building will be closed in observation of Thanksgiving.
URL:https://bellevueky.org/event/city-building-closed-19/
ATTACH;FMTTYPE=image/png:https://bellevueky.org/wp-content/uploads/2025/11/Orange-Green-and-Brown-Flat-Thanksgiving-Sale-Facebook-Post.png
END:VEVENT
BEGIN:VEVENT
DTSTART;TZID=America/Kentucky/Louisville:20251128T100000
DTEND;TZID=America/Kentucky/Louisville:20251128T180000
DTSTAMP:20260421T074608
CREATED:20250709T155849Z
LAST-MODIFIED:20251121T141846Z
UID:27392-1764324000-1764352800@bellevueky.org
SUMMARY:Christmas Walk
DESCRIPTION:Friday and Saturday from 10am-6pm. \n  \nCheck out the events list for the Business Association below. Make sure you pick up your Jingle All the Way Passport beginning November 28 at any participating Bellevue InVue business (they’ll be posted by Wednesday\, November 26). Once you’ve got it\, begin your journey and visit each business listed to collect every stamp—because yes\, the Elves of Accountability are definitely watching. When you’ve completed the route\, deliver your finished passport to Frame & Hang Studio Gallery by December 22\, 2025. Then sit tight and wait—Santa’s drawings will take place on December 23\, and winners will be announced!
URL:https://bellevueky.org/event/christmas-walk-2/
LOCATION:Fairfield Avenue\, Bellevue\, KY\, 41073\, United States
END:VEVENT
END:VCALENDAR