BEGIN:VCALENDAR
VERSION:2.0
PRODID:-//City of Bellevue, Ky - ECPv6.15.20//NONSGML v1.0//EN
CALSCALE:GREGORIAN
METHOD:PUBLISH
X-ORIGINAL-URL:https://bellevueky.org
X-WR-CALDESC:Events for City of Bellevue, Ky
REFRESH-INTERVAL;VALUE=DURATION:PT1H
X-Robots-Tag:noindex
X-PUBLISHED-TTL:PT1H
BEGIN:VTIMEZONE
TZID:America/Kentucky/Louisville
BEGIN:DAYLIGHT
TZOFFSETFROM:-0500
TZOFFSETTO:-0400
TZNAME:EDT
DTSTART:20240310T070000
END:DAYLIGHT
BEGIN:STANDARD
TZOFFSETFROM:-0400
TZOFFSETTO:-0500
TZNAME:EST
DTSTART:20241103T060000
END:STANDARD
BEGIN:DAYLIGHT
TZOFFSETFROM:-0500
TZOFFSETTO:-0400
TZNAME:EDT
DTSTART:20250309T070000
END:DAYLIGHT
BEGIN:STANDARD
TZOFFSETFROM:-0400
TZOFFSETTO:-0500
TZNAME:EST
DTSTART:20251102T060000
END:STANDARD
BEGIN:DAYLIGHT
TZOFFSETFROM:-0500
TZOFFSETTO:-0400
TZNAME:EDT
DTSTART:20260308T070000
END:DAYLIGHT
BEGIN:STANDARD
TZOFFSETFROM:-0400
TZOFFSETTO:-0500
TZNAME:EST
DTSTART:20261101T060000
END:STANDARD
END:VTIMEZONE
BEGIN:VEVENT
DTSTART;VALUE=DATE:20251130
DTEND;VALUE=DATE:20251201
DTSTAMP:20260419T124216
CREATED:20251010T142529Z
LAST-MODIFIED:20251010T142529Z
UID:27671-1764460800-1764547199@bellevueky.org
SUMMARY:Bellevue 2025 Property Tax Due
DESCRIPTION:Property taxes are due on November 20\, 2025. Online Payments (2.75% fee will apply). A QR code is provided on the tax notice\, or you can visit www.bellevueky.org and click on the ‘Tax Info’ tab. Payments can be made over the phone with credit card – 2.75% fee will apply. As always\, payments can still be paid in person or by mail to 616 Poplar Street\, Bellevue\, KY. \nCity of Bellevue – Property Tax Search
URL:https://bellevueky.org/event/bellevue-2025-property-tax-due/
LOCATION:City of Bellevue 616 Poplar St.
END:VEVENT
END:VCALENDAR