BEGIN:VCALENDAR
VERSION:2.0
PRODID:-//City of Bellevue, Ky - ECPv6.15.20//NONSGML v1.0//EN
CALSCALE:GREGORIAN
METHOD:PUBLISH
X-WR-CALNAME:City of Bellevue, Ky
X-ORIGINAL-URL:https://bellevueky.org
X-WR-CALDESC:Events for City of Bellevue, Ky
REFRESH-INTERVAL;VALUE=DURATION:PT1H
X-Robots-Tag:noindex
X-PUBLISHED-TTL:PT1H
BEGIN:VTIMEZONE
TZID:America/Kentucky/Louisville
BEGIN:DAYLIGHT
TZOFFSETFROM:-0500
TZOFFSETTO:-0400
TZNAME:EDT
DTSTART:20240310T070000
END:DAYLIGHT
BEGIN:STANDARD
TZOFFSETFROM:-0400
TZOFFSETTO:-0500
TZNAME:EST
DTSTART:20241103T060000
END:STANDARD
BEGIN:DAYLIGHT
TZOFFSETFROM:-0500
TZOFFSETTO:-0400
TZNAME:EDT
DTSTART:20250309T070000
END:DAYLIGHT
BEGIN:STANDARD
TZOFFSETFROM:-0400
TZOFFSETTO:-0500
TZNAME:EST
DTSTART:20251102T060000
END:STANDARD
BEGIN:DAYLIGHT
TZOFFSETFROM:-0500
TZOFFSETTO:-0400
TZNAME:EDT
DTSTART:20260308T070000
END:DAYLIGHT
BEGIN:STANDARD
TZOFFSETFROM:-0400
TZOFFSETTO:-0500
TZNAME:EST
DTSTART:20261101T060000
END:STANDARD
END:VTIMEZONE
BEGIN:VEVENT
DTSTART;TZID=America/Kentucky/Louisville:20251205T180000
DTEND;TZID=America/Kentucky/Louisville:20251205T210000
DTSTAMP:20260421T235342
CREATED:20250709T155943Z
LAST-MODIFIED:20251204T164023Z
UID:27394-1764957600-1764968400@bellevueky.org
SUMMARY:First Friday: Coco & Carols Crawl | 6pm
DESCRIPTION:Come sip\, shop\, and stroll along Fairfield Avenue for our First Fridays 6-9pm! \nEnjoy complimentary cocoa and coffee from some of the participating businesses (some will charge for specialty hot chocolates) as you stroll through your favorite local shops\, bars and restaurants. Delight in being serenaded by festive carolers filling Fairfield Avenue with holiday spirit. 🎅 🎵 6-8PM 🎤 🎄 \nCheck out more about our Businesses at the link.
URL:https://bellevueky.org/event/first-friday-coco-carols-crawl-6pm/
LOCATION:Fairfield Avenue\, Bellevue\, KY\, 41073\, United States
END:VEVENT
END:VCALENDAR