BEGIN:VCALENDAR
VERSION:2.0
PRODID:-//City of Bellevue, Ky - ECPv6.15.20//NONSGML v1.0//EN
CALSCALE:GREGORIAN
METHOD:PUBLISH
X-ORIGINAL-URL:https://bellevueky.org
X-WR-CALDESC:Events for City of Bellevue, Ky
REFRESH-INTERVAL;VALUE=DURATION:PT1H
X-Robots-Tag:noindex
X-PUBLISHED-TTL:PT1H
BEGIN:VTIMEZONE
TZID:America/Kentucky/Louisville
BEGIN:DAYLIGHT
TZOFFSETFROM:-0500
TZOFFSETTO:-0400
TZNAME:EDT
DTSTART:20250309T070000
END:DAYLIGHT
BEGIN:STANDARD
TZOFFSETFROM:-0400
TZOFFSETTO:-0500
TZNAME:EST
DTSTART:20251102T060000
END:STANDARD
BEGIN:DAYLIGHT
TZOFFSETFROM:-0500
TZOFFSETTO:-0400
TZNAME:EDT
DTSTART:20260308T070000
END:DAYLIGHT
BEGIN:STANDARD
TZOFFSETFROM:-0400
TZOFFSETTO:-0500
TZNAME:EST
DTSTART:20261101T060000
END:STANDARD
BEGIN:DAYLIGHT
TZOFFSETFROM:-0500
TZOFFSETTO:-0400
TZNAME:EDT
DTSTART:20270314T070000
END:DAYLIGHT
BEGIN:STANDARD
TZOFFSETFROM:-0400
TZOFFSETTO:-0500
TZNAME:EST
DTSTART:20271107T060000
END:STANDARD
END:VTIMEZONE
BEGIN:VEVENT
DTSTART;TZID=America/Kentucky/Louisville:20260711T193000
DTEND;TZID=America/Kentucky/Louisville:20260711T210000
DTSTAMP:20260419T172959
CREATED:20260127T162232Z
LAST-MODIFIED:20260316T161152Z
UID:28194-1783798200-1783803600@bellevueky.org
SUMMARY:Second Saturday Concert | 7:30pm
DESCRIPTION:Join us June through September at Bellevue Beach Park for live music\, food trucks\, cold drinks from our beer vendor\, and sweet dessert treats. Bring your lawn chairs\, blankets\, and your favorite people\, and enjoy the good vibes all summer long along the river.
URL:https://bellevueky.org/event/second-saturday-concert-7pm-2/
LOCATION:Bellevue Beach Park\, 643-665 Frank Benke Way\, Bellevue\, Kentucky\, 41073
END:VEVENT
END:VCALENDAR