BEGIN:VCALENDAR
VERSION:2.0
PRODID:-//City of Bellevue, Ky - ECPv6.15.20//NONSGML v1.0//EN
CALSCALE:GREGORIAN
METHOD:PUBLISH
X-WR-CALNAME:City of Bellevue, Ky
X-ORIGINAL-URL:https://bellevueky.org
X-WR-CALDESC:Events for City of Bellevue, Ky
REFRESH-INTERVAL;VALUE=DURATION:PT1H
X-Robots-Tag:noindex
X-PUBLISHED-TTL:PT1H
BEGIN:VTIMEZONE
TZID:America/Kentucky/Louisville
BEGIN:DAYLIGHT
TZOFFSETFROM:-0500
TZOFFSETTO:-0400
TZNAME:EDT
DTSTART:20250309T070000
END:DAYLIGHT
BEGIN:STANDARD
TZOFFSETFROM:-0400
TZOFFSETTO:-0500
TZNAME:EST
DTSTART:20251102T060000
END:STANDARD
BEGIN:DAYLIGHT
TZOFFSETFROM:-0500
TZOFFSETTO:-0400
TZNAME:EDT
DTSTART:20260308T070000
END:DAYLIGHT
BEGIN:STANDARD
TZOFFSETFROM:-0400
TZOFFSETTO:-0500
TZNAME:EST
DTSTART:20261101T060000
END:STANDARD
BEGIN:DAYLIGHT
TZOFFSETFROM:-0500
TZOFFSETTO:-0400
TZNAME:EDT
DTSTART:20270314T070000
END:DAYLIGHT
BEGIN:STANDARD
TZOFFSETFROM:-0400
TZOFFSETTO:-0500
TZNAME:EST
DTSTART:20271107T060000
END:STANDARD
END:VTIMEZONE
BEGIN:VEVENT
DTSTART;TZID=America/Kentucky/Louisville:20260712T080000
DTEND;TZID=America/Kentucky/Louisville:20260712T100000
DTSTAMP:20260420T210833
CREATED:20260114T154442Z
LAST-MODIFIED:20260407T181833Z
UID:28121-1783843200-1783850400@bellevueky.org
SUMMARY:2026 Fairfield Avenue Mile + FCA 5K
DESCRIPTION:Registration is now open for the NKY FCA Fairfield Avenue Mile and 5K\, which returns this summer to celebrate 30 years of faith\, fellowship\, and community impact. \nThe race will take place on Saturday\, July 11 at 8:00 a.m.\, beginning at Bellevue Frisch’s. Organizers encourage participants of all ages and experience levels to take part in the annual event. \nFirst Church of Christ\, Campbell County Campus returns as the official race T-shirt sponsor. The first 150 participants to register will receive a free race T-shirt\, and runners who sign up by June 19 are guaranteed their preferred shirt size. \nEvent organizers are also seeking additional sponsors and volunteers to support this year’s race. More details will be shared as race day approaches. \nParticipants can register now to take advantage of early bird pricing. For more information\, contact race directors Jennifer Ratterman or Tom Ratterman. \nhttps://www.raceentry.com/race/fairfield-avenue-mile/info-page \nBelow: Fairfield Avenue Mile Route \n \n  \nBelow: FCA 5K Route
URL:https://bellevueky.org/event/2026-fairfield-avenue-mile-fca-5k/
END:VEVENT
END:VCALENDAR