BEGIN:VCALENDAR
VERSION:2.0
PRODID:-//City of Bellevue, Ky - ECPv6.15.20//NONSGML v1.0//EN
CALSCALE:GREGORIAN
METHOD:PUBLISH
X-ORIGINAL-URL:https://bellevueky.org
X-WR-CALDESC:Events for City of Bellevue, Ky
REFRESH-INTERVAL;VALUE=DURATION:PT1H
X-Robots-Tag:noindex
X-PUBLISHED-TTL:PT1H
BEGIN:VTIMEZONE
TZID:America/Kentucky/Louisville
BEGIN:DAYLIGHT
TZOFFSETFROM:-0500
TZOFFSETTO:-0400
TZNAME:EDT
DTSTART:20250309T070000
END:DAYLIGHT
BEGIN:STANDARD
TZOFFSETFROM:-0400
TZOFFSETTO:-0500
TZNAME:EST
DTSTART:20251102T060000
END:STANDARD
BEGIN:DAYLIGHT
TZOFFSETFROM:-0500
TZOFFSETTO:-0400
TZNAME:EDT
DTSTART:20260308T070000
END:DAYLIGHT
BEGIN:STANDARD
TZOFFSETFROM:-0400
TZOFFSETTO:-0500
TZNAME:EST
DTSTART:20261101T060000
END:STANDARD
BEGIN:DAYLIGHT
TZOFFSETFROM:-0500
TZOFFSETTO:-0400
TZNAME:EDT
DTSTART:20270314T070000
END:DAYLIGHT
BEGIN:STANDARD
TZOFFSETFROM:-0400
TZOFFSETTO:-0500
TZNAME:EST
DTSTART:20271107T060000
END:STANDARD
END:VTIMEZONE
BEGIN:VEVENT
DTSTART;VALUE=DATE:20260907
DTEND;VALUE=DATE:20260908
DTSTAMP:20260422T162937
CREATED:20251112T162133Z
LAST-MODIFIED:20251112T162143Z
UID:27776-1788739200-1788825599@bellevueky.org
SUMMARY:City Building Closed
DESCRIPTION:The City Building will be closed in observation of Labor Day.
URL:https://bellevueky.org/event/27776/
LOCATION:KY
END:VEVENT
BEGIN:VEVENT
DTSTART;TZID=America/Kentucky/Louisville:20260907T190000
DTEND;TZID=America/Kentucky/Louisville:20260907T200000
DTSTAMP:20260422T162937
CREATED:20251230T161600Z
LAST-MODIFIED:20251230T161600Z
UID:27994-1788807600-1788811200@bellevueky.org
SUMMARY:Board of Adjustments | 7pm
DESCRIPTION:Board of Adjustment meets on the first Monday of each month at 7pm. Please check back each month as meetings can be rescheduled or canceled.
URL:https://bellevueky.org/event/board-of-adjustments-7pm-11/
LOCATION:Callahan Community Center\, 322 Van Voast
END:VEVENT
END:VCALENDAR