BEGIN:VCALENDAR
VERSION:2.0
PRODID:-//City of Bellevue, Ky - ECPv6.15.20//NONSGML v1.0//EN
CALSCALE:GREGORIAN
METHOD:PUBLISH
X-WR-CALNAME:City of Bellevue, Ky
X-ORIGINAL-URL:https://bellevueky.org
X-WR-CALDESC:Events for City of Bellevue, Ky
REFRESH-INTERVAL;VALUE=DURATION:PT1H
X-Robots-Tag:noindex
X-PUBLISHED-TTL:PT1H
BEGIN:VTIMEZONE
TZID:America/Kentucky/Louisville
BEGIN:DAYLIGHT
TZOFFSETFROM:-0500
TZOFFSETTO:-0400
TZNAME:EDT
DTSTART:20250309T070000
END:DAYLIGHT
BEGIN:STANDARD
TZOFFSETFROM:-0400
TZOFFSETTO:-0500
TZNAME:EST
DTSTART:20251102T060000
END:STANDARD
BEGIN:DAYLIGHT
TZOFFSETFROM:-0500
TZOFFSETTO:-0400
TZNAME:EDT
DTSTART:20260308T070000
END:DAYLIGHT
BEGIN:STANDARD
TZOFFSETFROM:-0400
TZOFFSETTO:-0500
TZNAME:EST
DTSTART:20261101T060000
END:STANDARD
BEGIN:DAYLIGHT
TZOFFSETFROM:-0500
TZOFFSETTO:-0400
TZNAME:EDT
DTSTART:20270314T070000
END:DAYLIGHT
BEGIN:STANDARD
TZOFFSETFROM:-0400
TZOFFSETTO:-0500
TZNAME:EST
DTSTART:20271107T060000
END:STANDARD
END:VTIMEZONE
BEGIN:VEVENT
DTSTART;VALUE=DATE:20261018
DTEND;VALUE=DATE:20261025
DTSTAMP:20260422T183244
CREATED:20260127T154644Z
LAST-MODIFIED:20260127T154644Z
UID:28190-1792281600-1792886399@bellevueky.org
SUMMARY:Fall Clean-Up | October 18-24
DESCRIPTION:The City of Bellevue’s Fall Clean-up will take place October 18-24\, 2026. Dumpsters will be on Van Voast Avenue Adjacent to the City Building. Please remember this is for residential clean up only.\n\nItems not allowed: batteries\, oil-based paint\, car fluids\, aerosol cans\, latex paint\, appliances\, fertilizer\, medications\, ammunition\, explosives\, or radioactive materials.\n\nTires can be stacked next to the dumpster.
URL:https://bellevueky.org/event/fall-clean-up-october-18-24/
LOCATION:City of Bellevue 616 Poplar St.
END:VEVENT
END:VCALENDAR