BEGIN:VCALENDAR
VERSION:2.0
PRODID:-//City of Bellevue, Ky - ECPv6.15.20//NONSGML v1.0//EN
CALSCALE:GREGORIAN
METHOD:PUBLISH
X-ORIGINAL-URL:https://bellevueky.org
X-WR-CALDESC:Events for City of Bellevue, Ky
REFRESH-INTERVAL;VALUE=DURATION:PT1H
X-Robots-Tag:noindex
X-PUBLISHED-TTL:PT1H
BEGIN:VTIMEZONE
TZID:America/Kentucky/Louisville
BEGIN:DAYLIGHT
TZOFFSETFROM:-0500
TZOFFSETTO:-0400
TZNAME:EDT
DTSTART:20250309T070000
END:DAYLIGHT
BEGIN:STANDARD
TZOFFSETFROM:-0400
TZOFFSETTO:-0500
TZNAME:EST
DTSTART:20251102T060000
END:STANDARD
BEGIN:DAYLIGHT
TZOFFSETFROM:-0500
TZOFFSETTO:-0400
TZNAME:EDT
DTSTART:20260308T070000
END:DAYLIGHT
BEGIN:STANDARD
TZOFFSETFROM:-0400
TZOFFSETTO:-0500
TZNAME:EST
DTSTART:20261101T060000
END:STANDARD
BEGIN:DAYLIGHT
TZOFFSETFROM:-0500
TZOFFSETTO:-0400
TZNAME:EDT
DTSTART:20270314T070000
END:DAYLIGHT
BEGIN:STANDARD
TZOFFSETFROM:-0400
TZOFFSETTO:-0500
TZNAME:EST
DTSTART:20271107T060000
END:STANDARD
END:VTIMEZONE
BEGIN:VEVENT
DTSTART;TZID=America/Kentucky/Louisville:20261111T080000
DTEND;TZID=America/Kentucky/Louisville:20261111T170000
DTSTAMP:20260423T014513
CREATED:20251112T162232Z
LAST-MODIFIED:20251112T162232Z
UID:27779-1794384000-1794416400@bellevueky.org
SUMMARY:City Building Closed
DESCRIPTION:The City Building will be closed in observation of Veterans Day.
URL:https://bellevueky.org/event/city-building-closed-13/
LOCATION:KY
END:VEVENT
BEGIN:VEVENT
DTSTART;TZID=America/Kentucky/Louisville:20261111T190000
DTEND;TZID=America/Kentucky/Louisville:20261111T200000
DTSTAMP:20260423T014513
CREATED:20251230T191850Z
LAST-MODIFIED:20251230T191850Z
UID:28069-1794423600-1794427200@bellevueky.org
SUMMARY:City Council | 7pm
DESCRIPTION:City Council meets on the second Wednesday of every month at 7pm. Please check back each month as meetings can be rescheduled or canceled.
URL:https://bellevueky.org/event/city-council-7pm-11/
LOCATION:Callahan Community Center\, 322 Van Voast
END:VEVENT
END:VCALENDAR