BEGIN:VCALENDAR
VERSION:2.0
PRODID:-//City of Bellevue, Ky - ECPv6.15.20//NONSGML v1.0//EN
CALSCALE:GREGORIAN
METHOD:PUBLISH
X-WR-CALNAME:City of Bellevue, Ky
X-ORIGINAL-URL:https://bellevueky.org
X-WR-CALDESC:Events for City of Bellevue, Ky
REFRESH-INTERVAL;VALUE=DURATION:PT1H
X-Robots-Tag:noindex
X-PUBLISHED-TTL:PT1H
BEGIN:VTIMEZONE
TZID:America/New_York
BEGIN:DAYLIGHT
TZOFFSETFROM:-0500
TZOFFSETTO:-0400
TZNAME:EDT
DTSTART:20210314T070000
END:DAYLIGHT
BEGIN:STANDARD
TZOFFSETFROM:-0400
TZOFFSETTO:-0500
TZNAME:EST
DTSTART:20211107T060000
END:STANDARD
BEGIN:DAYLIGHT
TZOFFSETFROM:-0500
TZOFFSETTO:-0400
TZNAME:EDT
DTSTART:20220313T070000
END:DAYLIGHT
BEGIN:STANDARD
TZOFFSETFROM:-0400
TZOFFSETTO:-0500
TZNAME:EST
DTSTART:20221106T060000
END:STANDARD
BEGIN:DAYLIGHT
TZOFFSETFROM:-0500
TZOFFSETTO:-0400
TZNAME:EDT
DTSTART:20230312T070000
END:DAYLIGHT
BEGIN:STANDARD
TZOFFSETFROM:-0400
TZOFFSETTO:-0500
TZNAME:EST
DTSTART:20231105T060000
END:STANDARD
BEGIN:DAYLIGHT
TZOFFSETFROM:-0500
TZOFFSETTO:-0400
TZNAME:EDT
DTSTART:20240310T070000
END:DAYLIGHT
BEGIN:STANDARD
TZOFFSETFROM:-0400
TZOFFSETTO:-0500
TZNAME:EST
DTSTART:20241103T060000
END:STANDARD
END:VTIMEZONE
BEGIN:VEVENT
DTSTART;TZID=America/New_York:20230228T190000
DTEND;TZID=America/New_York:20230228T213000
DTSTAMP:20260422T212303
CREATED:20230227T195451Z
LAST-MODIFIED:20230227T195451Z
UID:22876-1677610800-1677619800@bellevueky.org
SUMMARY:Bellevue Neighborhood Association Meeting
DESCRIPTION:
URL:https://bellevueky.org/event/bellevue-neighborhood-association-meeting/
LOCATION:Callahan Community Center\, 322 Van Voast
END:VEVENT
BEGIN:VEVENT
DTSTART;TZID=America/New_York:20230227T190000
DTEND;TZID=America/New_York:20230227T200000
DTSTAMP:20260422T212303
CREATED:20230213T202641Z
LAST-MODIFIED:20230213T202641Z
UID:22859-1677524400-1677528000@bellevueky.org
SUMMARY:Planning and Zoning Meeting
DESCRIPTION:
URL:https://bellevueky.org/event/planning-and-zoning-meeting-3/
LOCATION:Callahan Community Center\, 322 Van Voast
END:VEVENT
BEGIN:VEVENT
DTSTART;TZID=America/New_York:20230225T100000
DTEND;TZID=America/New_York:20230225T150000
DTSTAMP:20260422T212303
CREATED:20230131T145133Z
LAST-MODIFIED:20230131T145133Z
UID:22790-1677319200-1677337200@bellevueky.org
SUMMARY:Winter Carnival
DESCRIPTION:Washington Ave @ Fairfield Ave
URL:https://bellevueky.org/event/winter-carnival-2/
END:VEVENT
BEGIN:VEVENT
DTSTART;TZID=America/New_York:20230223T070000
DTEND;TZID=America/New_York:20230223T070000
DTSTAMP:20260422T212303
CREATED:20201214T141116Z
LAST-MODIFIED:20201214T141116Z
UID:20852-1677135600-1677135600@bellevueky.org
SUMMARY:Recycling day
DESCRIPTION:Every 2 weeks on Thursday
URL:https://bellevueky.org/event/recycling-day-2023-02-23/
END:VEVENT
BEGIN:VEVENT
DTSTART;TZID=America/New_York:20230213T190000
DTEND;TZID=America/New_York:20230213T200000
DTSTAMP:20260422T212303
CREATED:20230213T202609Z
LAST-MODIFIED:20230213T202609Z
UID:22857-1676314800-1676318400@bellevueky.org
SUMMARY:Planning and Zoning Meeting
DESCRIPTION:
URL:https://bellevueky.org/event/planning-and-zoning-meeting-2/
LOCATION:Callahan Community Center\, 322 Van Voast
END:VEVENT
BEGIN:VEVENT
DTSTART;TZID=America/New_York:20230209T070000
DTEND;TZID=America/New_York:20230209T070000
DTSTAMP:20260422T212303
CREATED:20201214T141116Z
LAST-MODIFIED:20201214T141116Z
UID:20851-1675926000-1675926000@bellevueky.org
SUMMARY:Recycling day
DESCRIPTION:Every 2 weeks on Thursday
URL:https://bellevueky.org/event/recycling-day-2023-02-09/
END:VEVENT
BEGIN:VEVENT
DTSTART;TZID=America/New_York:20230208T190000
DTEND;TZID=America/New_York:20230208T190000
DTSTAMP:20260422T212303
CREATED:20201214T142636Z
LAST-MODIFIED:20201214T142636Z
UID:11504-1675882800-1675882800@bellevueky.org
SUMMARY:Council Meeting
DESCRIPTION:Monthly on the second Wednesday
URL:https://bellevueky.org/event/council-meeting-2023-02-08/
LOCATION:→
END:VEVENT
BEGIN:VEVENT
DTSTART;TZID=America/New_York:20230206T190000
DTEND;TZID=America/New_York:20230206T190000
DTSTAMP:20260422T212303
CREATED:20230204T163122Z
LAST-MODIFIED:20230204T163122Z
UID:22841-1675710000-1675710000@bellevueky.org
SUMMARY:Historic Preservation Commission Meeting
DESCRIPTION:
URL:https://bellevueky.org/event/historic-preservation-commission-meeting/
LOCATION:Callahan Community Center\, 322 Van Voast
END:VEVENT
BEGIN:VEVENT
DTSTART;TZID=America/New_York:20230203T180000
DTEND;TZID=America/New_York:20230203T180000
DTSTAMP:20260422T212303
CREATED:20230131T145002Z
LAST-MODIFIED:20230131T145002Z
UID:22788-1675447200-1675447200@bellevueky.org
SUMMARY:First Friday
DESCRIPTION:Love is in the Air \n200-700 Blocks of Fairfield Ave.
URL:https://bellevueky.org/event/first-friday-4/
LOCATION:Fairfield Avenue\, Bellevue\, KY\, 41073\, United States
END:VEVENT
BEGIN:VEVENT
DTSTART;TZID=America/New_York:20230201T150000
DTEND;TZID=America/New_York:20230201T160000
DTSTAMP:20260422T212303
CREATED:20230124T155156Z
LAST-MODIFIED:20230124T155156Z
UID:22753-1675263600-1675267200@bellevueky.org
SUMMARY:Tree Commission Meeting
DESCRIPTION:
URL:https://bellevueky.org/event/tree-commission-meeting/
LOCATION:Callahan Community Center\, 322 Van Voast
END:VEVENT
BEGIN:VEVENT
DTSTART;TZID=America/New_York:20230126T070000
DTEND;TZID=America/New_York:20230126T070000
DTSTAMP:20260422T212303
CREATED:20201214T141116Z
LAST-MODIFIED:20201214T141116Z
UID:20850-1674716400-1674716400@bellevueky.org
SUMMARY:Recycling day
DESCRIPTION:Every 2 weeks on Thursday
URL:https://bellevueky.org/event/recycling-day-2023-01-26/
END:VEVENT
BEGIN:VEVENT
DTSTART;TZID=America/New_York:20230112T070000
DTEND;TZID=America/New_York:20230112T070000
DTSTAMP:20260422T212303
CREATED:20201214T141116Z
LAST-MODIFIED:20201214T141116Z
UID:20849-1673506800-1673506800@bellevueky.org
SUMMARY:Recycling day
DESCRIPTION:Every 2 weeks on Thursday
URL:https://bellevueky.org/event/recycling-day-2023-01-12/
END:VEVENT
BEGIN:VEVENT
DTSTART;TZID=America/New_York:20230111T190000
DTEND;TZID=America/New_York:20230111T190000
DTSTAMP:20260422T212303
CREATED:20201214T142636Z
LAST-MODIFIED:20201214T142636Z
UID:20854-1673463600-1673463600@bellevueky.org
SUMMARY:Council Meeting
DESCRIPTION:Monthly on the second Wednesday
URL:https://bellevueky.org/event/council-meeting-2023-01-11/
LOCATION:→
END:VEVENT
BEGIN:VEVENT
DTSTART;TZID=America/New_York:20221229T070000
DTEND;TZID=America/New_York:20221229T070000
DTSTAMP:20260422T212303
CREATED:20201214T141116Z
LAST-MODIFIED:20201214T141116Z
UID:11423-1672297200-1672297200@bellevueky.org
SUMMARY:Recycling day
DESCRIPTION:Every 2 weeks on Thursday
URL:https://bellevueky.org/event/recycling-day-2022-12-29/
END:VEVENT
BEGIN:VEVENT
DTSTART;TZID=America/New_York:20221215T070000
DTEND;TZID=America/New_York:20221215T070000
DTSTAMP:20260422T212303
CREATED:20201214T141116Z
LAST-MODIFIED:20201214T141116Z
UID:11382-1671087600-1671087600@bellevueky.org
SUMMARY:Recycling day
DESCRIPTION:Every 2 weeks on Thursday
URL:https://bellevueky.org/event/recycling-day-2022-12-15/
END:VEVENT
BEGIN:VEVENT
DTSTART;TZID=America/New_York:20221214T190000
DTEND;TZID=America/New_York:20221214T190000
DTSTAMP:20260422T212303
CREATED:20201214T142636Z
LAST-MODIFIED:20201214T142636Z
UID:11202-1671044400-1671044400@bellevueky.org
SUMMARY:Council Meeting
DESCRIPTION:Monthly on the second Wednesday
URL:https://bellevueky.org/event/council-meeting-2022-12-14/
LOCATION:→
END:VEVENT
BEGIN:VEVENT
DTSTART;TZID=America/New_York:20221202T170000
DTEND;TZID=America/New_York:20221202T210000
DTSTAMP:20260422T212303
CREATED:20220719T195851Z
LAST-MODIFIED:20220719T195851Z
UID:22514-1670000400-1670014800@bellevueky.org
SUMMARY:FIRST FRIDAY HOLIDAY MARKET
DESCRIPTION:
URL:https://bellevueky.org/event/first-friday-holiday-market/
LOCATION:Fairfield Avenue\, Bellevue\, KY\, 41073\, United States
END:VEVENT
BEGIN:VEVENT
DTSTART;TZID=America/New_York:20221201T070000
DTEND;TZID=America/New_York:20221201T070000
DTSTAMP:20260422T212303
CREATED:20201214T141116Z
LAST-MODIFIED:20201214T141116Z
UID:11358-1669878000-1669878000@bellevueky.org
SUMMARY:Recycling day
DESCRIPTION:Every 2 weeks on Thursday
URL:https://bellevueky.org/event/recycling-day-2022-12-01/
END:VEVENT
BEGIN:VEVENT
DTSTART;TZID=America/New_York:20221125T000000
DTEND;TZID=America/New_York:20221126T000000
DTSTAMP:20260422T212303
CREATED:20220719T195739Z
LAST-MODIFIED:20220719T195739Z
UID:22512-1669334400-1669420800@bellevueky.org
SUMMARY:CHRISTMAS WALK AND TREE LIGHTING
DESCRIPTION:Check later for times
URL:https://bellevueky.org/event/christmas-walk-and-tree-lighting/
LOCATION:Fairfield Avenue\, Bellevue\, KY\, 41073\, United States
END:VEVENT
BEGIN:VEVENT
DTSTART;TZID=America/New_York:20221117T070000
DTEND;TZID=America/New_York:20221117T070000
DTSTAMP:20260422T212303
CREATED:20201214T141116Z
LAST-MODIFIED:20201214T141116Z
UID:11357-1668668400-1668668400@bellevueky.org
SUMMARY:Recycling day
DESCRIPTION:Every 2 weeks on Thursday
URL:https://bellevueky.org/event/recycling-day-2022-11-17/
END:VEVENT
BEGIN:VEVENT
DTSTART;TZID=America/New_York:20221109T190000
DTEND;TZID=America/New_York:20221109T190000
DTSTAMP:20260422T212303
CREATED:20201214T142636Z
LAST-MODIFIED:20201214T142636Z
UID:11201-1668020400-1668020400@bellevueky.org
SUMMARY:Council Meeting
DESCRIPTION:Monthly on the second Wednesday
URL:https://bellevueky.org/event/council-meeting-2022-11-09/
LOCATION:→
END:VEVENT
BEGIN:VEVENT
DTSTART;TZID=America/New_York:20221105T100000
DTEND;TZID=America/New_York:20221105T140000
DTSTAMP:20260422T212303
CREATED:20220719T195545Z
LAST-MODIFIED:20220719T195545Z
UID:22510-1667642400-1667656800@bellevueky.org
SUMMARY:TOUCH-A-TRUCK
DESCRIPTION:
URL:https://bellevueky.org/event/touch-a-truck-2/
LOCATION:Thomas J Wiethorn Memorial Park\, 100 Ward Avenue\, Bellevue\, KY\, 41073\, United States
END:VEVENT
BEGIN:VEVENT
DTSTART;TZID=America/New_York:20221104T180000
DTEND;TZID=America/New_York:20221104T210000
DTSTAMP:20260422T212303
CREATED:20220719T195418Z
LAST-MODIFIED:20220719T195418Z
UID:22508-1667584800-1667595600@bellevueky.org
SUMMARY:FIRST FRIDAY FALL IN LOVE WITH BELLEVUE
DESCRIPTION:
URL:https://bellevueky.org/event/first-friday-fall-in-love-with-bellevue/
LOCATION:Fairfield Avenue\, Bellevue\, KY\, 41073\, United States
END:VEVENT
BEGIN:VEVENT
DTSTART;TZID=America/New_York:20221103T070000
DTEND;TZID=America/New_York:20221103T070000
DTSTAMP:20260422T212303
CREATED:20201214T141116Z
LAST-MODIFIED:20201214T141116Z
UID:11356-1667458800-1667458800@bellevueky.org
SUMMARY:Recycling day
DESCRIPTION:Every 2 weeks on Thursday
URL:https://bellevueky.org/event/recycling-day-2022-11-03/
END:VEVENT
BEGIN:VEVENT
DTSTART;TZID=America/New_York:20221031T180000
DTEND;TZID=America/New_York:20221031T200000
DTSTAMP:20260422T212303
CREATED:20221019T140202Z
LAST-MODIFIED:20221019T140202Z
UID:22652-1667239200-1667246400@bellevueky.org
SUMMARY:Trick or Treat
DESCRIPTION:The 2022 Bellevue Trick or Treating hours will be: 6:00 PM – 8:00 PM on October 31\, 2022.
URL:https://bellevueky.org/event/trick-or-treat/
END:VEVENT
BEGIN:VEVENT
DTSTART;TZID=America/New_York:20221020T070000
DTEND;TZID=America/New_York:20221020T070000
DTSTAMP:20260422T212303
CREATED:20201214T141116Z
LAST-MODIFIED:20201214T141116Z
UID:11355-1666249200-1666249200@bellevueky.org
SUMMARY:Recycling day
DESCRIPTION:Every 2 weeks on Thursday
URL:https://bellevueky.org/event/recycling-day-2022-10-20/
END:VEVENT
BEGIN:VEVENT
DTSTART;TZID=America/New_York:20221012T190000
DTEND;TZID=America/New_York:20221012T190000
DTSTAMP:20260422T212303
CREATED:20201214T142636Z
LAST-MODIFIED:20201214T142636Z
UID:11200-1665601200-1665601200@bellevueky.org
SUMMARY:Council Meeting
DESCRIPTION:Monthly on the second Wednesday
URL:https://bellevueky.org/event/council-meeting-2022-10-12/
LOCATION:→
END:VEVENT
BEGIN:VEVENT
DTSTART;TZID=America/New_York:20221007T170000
DTEND;TZID=America/New_York:20221007T220000
DTSTAMP:20260422T212303
CREATED:20220719T195302Z
LAST-MODIFIED:20220719T195302Z
UID:22506-1665162000-1665180000@bellevueky.org
SUMMARY:FIRST FRIDAY AND FALL FEST
DESCRIPTION:
URL:https://bellevueky.org/event/first-friday-and-fall-fest/
LOCATION:Fairfield Avenue\, Bellevue\, KY\, 41073\, United States
END:VEVENT
BEGIN:VEVENT
DTSTART;TZID=America/New_York:20221006T070000
DTEND;TZID=America/New_York:20221006T070000
DTSTAMP:20260422T212303
CREATED:20201214T141116Z
LAST-MODIFIED:20201214T141116Z
UID:11354-1665039600-1665039600@bellevueky.org
SUMMARY:Recycling day
DESCRIPTION:Every 2 weeks on Thursday
URL:https://bellevueky.org/event/recycling-day-2022-10-06/
END:VEVENT
BEGIN:VEVENT
DTSTART;TZID=America/New_York:20220922T070000
DTEND;TZID=America/New_York:20220922T070000
DTSTAMP:20260422T212303
CREATED:20201214T141116Z
LAST-MODIFIED:20201214T141116Z
UID:11353-1663830000-1663830000@bellevueky.org
SUMMARY:Recycling day
DESCRIPTION:Every 2 weeks on Thursday
URL:https://bellevueky.org/event/recycling-day-2022-09-22/
END:VEVENT
END:VCALENDAR