BEGIN:VCALENDAR
VERSION:2.0
PRODID:-//City of Bellevue, Ky - ECPv6.15.20//NONSGML v1.0//EN
CALSCALE:GREGORIAN
METHOD:PUBLISH
X-WR-CALNAME:City of Bellevue, Ky
X-ORIGINAL-URL:https://bellevueky.org
X-WR-CALDESC:Events for City of Bellevue, Ky
REFRESH-INTERVAL;VALUE=DURATION:PT1H
X-Robots-Tag:noindex
X-PUBLISHED-TTL:PT1H
BEGIN:VTIMEZONE
TZID:America/New_York
BEGIN:DAYLIGHT
TZOFFSETFROM:-0500
TZOFFSETTO:-0400
TZNAME:EDT
DTSTART:20210314T070000
END:DAYLIGHT
BEGIN:STANDARD
TZOFFSETFROM:-0400
TZOFFSETTO:-0500
TZNAME:EST
DTSTART:20211107T060000
END:STANDARD
BEGIN:DAYLIGHT
TZOFFSETFROM:-0500
TZOFFSETTO:-0400
TZNAME:EDT
DTSTART:20220313T070000
END:DAYLIGHT
BEGIN:STANDARD
TZOFFSETFROM:-0400
TZOFFSETTO:-0500
TZNAME:EST
DTSTART:20221106T060000
END:STANDARD
BEGIN:DAYLIGHT
TZOFFSETFROM:-0500
TZOFFSETTO:-0400
TZNAME:EDT
DTSTART:20230312T070000
END:DAYLIGHT
BEGIN:STANDARD
TZOFFSETFROM:-0400
TZOFFSETTO:-0500
TZNAME:EST
DTSTART:20231105T060000
END:STANDARD
END:VTIMEZONE
BEGIN:VEVENT
DTSTART;TZID=America/New_York:20220922T070000
DTEND;TZID=America/New_York:20220922T070000
DTSTAMP:20260424T022157
CREATED:20201214T141116Z
LAST-MODIFIED:20201214T141116Z
UID:11353-1663830000-1663830000@bellevueky.org
SUMMARY:Recycling day
DESCRIPTION:Every 2 weeks on Thursday
URL:https://bellevueky.org/event/recycling-day-2022-09-22/
END:VEVENT
BEGIN:VEVENT
DTSTART;TZID=America/New_York:20220918T080000
DTEND;TZID=America/New_York:20220918T140000
DTSTAMP:20260424T022157
CREATED:20220630T200446Z
LAST-MODIFIED:20220630T200446Z
UID:22451-1663488000-1663509600@bellevueky.org
SUMMARY:FARMERS MARKET
DESCRIPTION:Thomas J. Wiethorn Memorial Beach Park
URL:https://bellevueky.org/event/farmers-market-3/
LOCATION:Thomas J Wiethorn Memorial Park\, 100 Ward Avenue\, Bellevue\, KY\, 41073\, United States
END:VEVENT
BEGIN:VEVENT
DTSTART;TZID=America/New_York:20220914T190000
DTEND;TZID=America/New_York:20220914T190000
DTSTAMP:20260424T022157
CREATED:20201214T142636Z
LAST-MODIFIED:20201214T142636Z
UID:11199-1663182000-1663182000@bellevueky.org
SUMMARY:Council Meeting
DESCRIPTION:Monthly on the second Wednesday
URL:https://bellevueky.org/event/council-meeting-2022-09-14/
LOCATION:→
END:VEVENT
BEGIN:VEVENT
DTSTART;TZID=America/New_York:20220910T100000
DTEND;TZID=America/New_York:20220910T170000
DTSTAMP:20260424T022157
CREATED:20220630T202643Z
LAST-MODIFIED:20220630T202643Z
UID:22454-1662804000-1662829200@bellevueky.org
SUMMARY:ART IN THE PARK
DESCRIPTION:Volunteers needed! \nBe a part of one of the best Art Festivals in the area! Bellevue’s Art in the Park takes place on Saturday\, September 10th from 10am to 5pm. We will be welcoming some really great Artists!…. Food Trucks!… Live Music.!… Belly Dancers!… and More! \nWe have many volunteer opportunities available\, please sign up using the link below. \n#ArtInVue \nhttps://www.signupgenius.com/go/60B0A44A8AC22A1F85-artinthe3
URL:https://bellevueky.org/event/art-in-the-park/
LOCATION:Thomas J Wiethorn Memorial Park\, 100 Ward Avenue\, Bellevue\, KY\, 41073\, United States
END:VEVENT
BEGIN:VEVENT
DTSTART;TZID=America/New_York:20220908T180000
DTEND;TZID=America/New_York:20220908T190000
DTSTAMP:20260424T022157
CREATED:20220818T194401Z
LAST-MODIFIED:20220818T194401Z
UID:22553-1662660000-1662663600@bellevueky.org
SUMMARY:PUBLIC HEARING
DESCRIPTION:
URL:https://bellevueky.org/event/public-hearing-2/
END:VEVENT
BEGIN:VEVENT
DTSTART;TZID=America/New_York:20220908T070000
DTEND;TZID=America/New_York:20220908T070000
DTSTAMP:20260424T022157
CREATED:20201214T141116Z
LAST-MODIFIED:20201214T141116Z
UID:11352-1662620400-1662620400@bellevueky.org
SUMMARY:Recycling day
DESCRIPTION:Every 2 weeks on Thursday
URL:https://bellevueky.org/event/recycling-day-2022-09-08/
END:VEVENT
BEGIN:VEVENT
DTSTART;TZID=America/New_York:20220902T180000
DTEND;TZID=America/New_York:20220902T200000
DTSTAMP:20260424T022157
CREATED:20220302T150839Z
LAST-MODIFIED:20220302T150839Z
UID:22149-1662141600-1662148800@bellevueky.org
SUMMARY:FIRST FRIDAY-DOG DAYS OF SUMMER
DESCRIPTION:
URL:https://bellevueky.org/event/first-friday-dog-days-of-summer/
END:VEVENT
BEGIN:VEVENT
DTSTART;TZID=America/New_York:20220825T070000
DTEND;TZID=America/New_York:20220825T070000
DTSTAMP:20260424T022157
CREATED:20201214T141116Z
LAST-MODIFIED:20201214T141116Z
UID:11351-1661410800-1661410800@bellevueky.org
SUMMARY:Recycling day
DESCRIPTION:Every 2 weeks on Thursday
URL:https://bellevueky.org/event/recycling-day-2022-08-25/
END:VEVENT
BEGIN:VEVENT
DTSTART;TZID=America/New_York:20220821T100000
DTEND;TZID=America/New_York:20220821T140000
DTSTAMP:20260424T022157
CREATED:20220630T200318Z
LAST-MODIFIED:20220630T200318Z
UID:22449-1661076000-1661090400@bellevueky.org
SUMMARY:FARMERS MARKET
DESCRIPTION:Thomas J Wiethorn Memorial Beach Park.
URL:https://bellevueky.org/event/farmers-market-2/
LOCATION:Thomas J Wiethorn Memorial Park\, 100 Ward Avenue\, Bellevue\, KY\, 41073\, United States
END:VEVENT
BEGIN:VEVENT
DTSTART;TZID=America/New_York:20220813T190000
DTEND;TZID=America/New_York:20220813T220000
DTSTAMP:20260424T022157
CREATED:20220322T192806Z
LAST-MODIFIED:20220322T192806Z
UID:22201-1660417200-1660428000@bellevueky.org
SUMMARY:2ND SATURDAY CONCERT SERIES
DESCRIPTION:Featuring:  Scott Sprague & Friends
URL:https://bellevueky.org/event/2nd-saturday-concert-series-3/
LOCATION:Thomas J Wiethorn Memorial Park\, 100 Ward Avenue\, Bellevue\, KY\, 41073\, United States
END:VEVENT
BEGIN:VEVENT
DTSTART;TZID=America/New_York:20220811T070000
DTEND;TZID=America/New_York:20220811T070000
DTSTAMP:20260424T022157
CREATED:20201214T141116Z
LAST-MODIFIED:20201214T141116Z
UID:11350-1660201200-1660201200@bellevueky.org
SUMMARY:Recycling day
DESCRIPTION:Every 2 weeks on Thursday
URL:https://bellevueky.org/event/recycling-day-2022-08-11/
END:VEVENT
BEGIN:VEVENT
DTSTART;TZID=America/New_York:20220810T190000
DTEND;TZID=America/New_York:20220810T190000
DTSTAMP:20260424T022157
CREATED:20201214T142636Z
LAST-MODIFIED:20201214T142636Z
UID:11198-1660158000-1660158000@bellevueky.org
SUMMARY:Council Meeting
DESCRIPTION:Monthly on the second Wednesday
URL:https://bellevueky.org/event/council-meeting-2022-08-10/
LOCATION:→
END:VEVENT
BEGIN:VEVENT
DTSTART;TZID=America/New_York:20220805T170000
DTEND;TZID=America/New_York:20220805T210000
DTSTAMP:20260424T022157
CREATED:20220517T133034Z
LAST-MODIFIED:20220517T133034Z
UID:22377-1659718800-1659733200@bellevueky.org
SUMMARY:FIRST FRIDAY - Tiki Night
DESCRIPTION:Businesses are open late to shop\, sip and dine with a Tiki theme.  Bellevue is Paradise!
URL:https://bellevueky.org/event/first-friday-tiki-night-2/
LOCATION:Fairfield Avenue\, Bellevue\, KY\, 41073\, United States
END:VEVENT
BEGIN:VEVENT
DTSTART;TZID=America/New_York:20220728T070000
DTEND;TZID=America/New_York:20220728T070000
DTSTAMP:20260424T022157
CREATED:20201214T141116Z
LAST-MODIFIED:20201214T141116Z
UID:11349-1658991600-1658991600@bellevueky.org
SUMMARY:Recycling day
DESCRIPTION:Every 2 weeks on Thursday
URL:https://bellevueky.org/event/recycling-day-2022-07-28/
END:VEVENT
BEGIN:VEVENT
DTSTART;TZID=America/New_York:20220724T100000
DTEND;TZID=America/New_York:20220724T160000
DTSTAMP:20260424T022157
CREATED:20220630T200134Z
LAST-MODIFIED:20220630T200134Z
UID:22447-1658656800-1658678400@bellevueky.org
SUMMARY:FARMER'S MARKET
DESCRIPTION:Third Sunday of July\, August and September at the Thomas J. Wiethorn Memorial Beach Park!
URL:https://bellevueky.org/event/farmers-market/
LOCATION:Thomas J Wiethorn Memorial Park\, 100 Ward Avenue\, Bellevue\, KY\, 41073\, United States
END:VEVENT
BEGIN:VEVENT
DTSTART;TZID=America/New_York:20220721T190000
DTEND;TZID=America/New_York:20220723T190000
DTSTAMP:20260424T022157
CREATED:20220408T182245Z
LAST-MODIFIED:20220408T182245Z
UID:22234-1658430000-1658602800@bellevueky.org
SUMMARY:SHAKESPEARE AT THE PARK
DESCRIPTION:Come and watch Shakespeare’s “Much Ado About Nothing”
URL:https://bellevueky.org/event/shakespeare-at-the-park-2/
END:VEVENT
BEGIN:VEVENT
DTSTART;TZID=America/New_York:20220714T070000
DTEND;TZID=America/New_York:20220714T070000
DTSTAMP:20260424T022157
CREATED:20201214T141116Z
LAST-MODIFIED:20201214T141116Z
UID:11348-1657782000-1657782000@bellevueky.org
SUMMARY:Recycling day
DESCRIPTION:Every 2 weeks on Thursday
URL:https://bellevueky.org/event/recycling-day-2022-07-14/
END:VEVENT
BEGIN:VEVENT
DTSTART;TZID=America/New_York:20220713T190000
DTEND;TZID=America/New_York:20220713T190000
DTSTAMP:20260424T022157
CREATED:20201214T142636Z
LAST-MODIFIED:20201214T142636Z
UID:11197-1657738800-1657738800@bellevueky.org
SUMMARY:Council Meeting
DESCRIPTION:Monthly on the second Wednesday
URL:https://bellevueky.org/event/council-meeting-2022-07-13/
LOCATION:→
END:VEVENT
BEGIN:VEVENT
DTSTART;TZID=America/New_York:20220709T190000
DTEND;TZID=America/New_York:20220709T220000
DTSTAMP:20260424T022157
CREATED:20220322T192553Z
LAST-MODIFIED:20220322T192553Z
UID:22199-1657393200-1657404000@bellevueky.org
SUMMARY:2ND SATURDAY CONCERT SERIES
DESCRIPTION:Featuring: The Belairs Show Band 50s & 60s Tribute
URL:https://bellevueky.org/event/2nd-saturday-concert-series-2/
LOCATION:Thomas J Wiethorn Memorial Park\, 100 Ward Avenue\, Bellevue\, KY\, 41073\, United States
END:VEVENT
BEGIN:VEVENT
DTSTART;TZID=America/New_York:20220709T080000
DTEND;TZID=America/New_York:20220709T080000
DTSTAMP:20260424T022157
CREATED:20220617T130148Z
LAST-MODIFIED:20220617T130148Z
UID:22426-1657353600-1657353600@bellevueky.org
SUMMARY:ANNUAL FAIRFIELD MILE
DESCRIPTION:https://www.raceentry.com/fairfield-avenue-mile/race-information \n 
URL:https://bellevueky.org/event/annual-fairfield-mile/
END:VEVENT
BEGIN:VEVENT
DTSTART;TZID=America/New_York:20220701T180000
DTEND;TZID=America/New_York:20220701T200000
DTSTAMP:20260424T022157
CREATED:20220302T145732Z
LAST-MODIFIED:20220302T145732Z
UID:22145-1656698400-1656705600@bellevueky.org
SUMMARY:FIRST FRIDAY-BELLEVUE IS POPPIN
DESCRIPTION:Popsicle vendor/Fourth of July Theme
URL:https://bellevueky.org/event/first-friday-bellevue-is-poppin/
END:VEVENT
BEGIN:VEVENT
DTSTART;TZID=America/New_York:20220701T170000
DTEND;TZID=America/New_York:20220701T210000
DTSTAMP:20260424T022157
CREATED:20220517T132835Z
LAST-MODIFIED:20220517T132835Z
UID:22375-1656694800-1656709200@bellevueky.org
SUMMARY:FIRST FRIDAY - Bellevue is Poppin' Block Parties
DESCRIPTION:Business are open late\, Businesses block parties!  Shop\, Sip and Dine the Avenue.
URL:https://bellevueky.org/event/first-friday-bellevue-is-poppin-block-parties/
LOCATION:Fairfield Avenue\, Bellevue\, KY\, 41073\, United States
END:VEVENT
BEGIN:VEVENT
DTSTART;TZID=America/New_York:20220630T070000
DTEND;TZID=America/New_York:20220630T070000
DTSTAMP:20260424T022157
CREATED:20201214T141116Z
LAST-MODIFIED:20201214T141116Z
UID:11347-1656572400-1656572400@bellevueky.org
SUMMARY:Recycling day
DESCRIPTION:Every 2 weeks on Thursday
URL:https://bellevueky.org/event/recycling-day-2022-06-30/
END:VEVENT
BEGIN:VEVENT
DTSTART;TZID=America/New_York:20220617T083000
DTEND;TZID=America/New_York:20220617T113000
DTSTAMP:20260424T022157
CREATED:20220426T171017Z
LAST-MODIFIED:20220426T171017Z
UID:22310-1655454600-1655465400@bellevueky.org
SUMMARY:MERCY HEALTH MOBILE MAMMOGRAPHY UNIT
DESCRIPTION:City of Bellevue Flyer
URL:https://bellevueky.org/event/mercy-health-mobile-mammography-unit/
LOCATION:Callahan Community Center\, 322 Van Voast
END:VEVENT
BEGIN:VEVENT
DTSTART;TZID=America/New_York:20220616T190000
DTEND;TZID=America/New_York:20220618T190000
DTSTAMP:20260424T022157
CREATED:20220408T182053Z
LAST-MODIFIED:20220408T182053Z
UID:22232-1655406000-1655578800@bellevueky.org
SUMMARY:SHAKESPEARE AT THE PARK
DESCRIPTION:Come and see The Complete Works of William Shakespeare (Abridged)
URL:https://bellevueky.org/event/shakespeare-at-the-park/
END:VEVENT
BEGIN:VEVENT
DTSTART;TZID=America/New_York:20220616T070000
DTEND;TZID=America/New_York:20220616T070000
DTSTAMP:20260424T022157
CREATED:20201214T141116Z
LAST-MODIFIED:20201214T141116Z
UID:11346-1655362800-1655362800@bellevueky.org
SUMMARY:Recycling day
DESCRIPTION:Every 2 weeks on Thursday
URL:https://bellevueky.org/event/recycling-day-2022-06-16/
END:VEVENT
BEGIN:VEVENT
DTSTART;TZID=America/New_York:20220611T190000
DTEND;TZID=America/New_York:20220611T220000
DTSTAMP:20260424T022157
CREATED:20220322T192223Z
LAST-MODIFIED:20220322T192223Z
UID:22197-1654974000-1654984800@bellevueky.org
SUMMARY:2ND SATURDAY CONCERT SERIES
DESCRIPTION:Featuring:  Webster/Devoto Band
URL:https://bellevueky.org/event/2nd-saturday-concert-series/
LOCATION:Thomas J Wiethorn Memorial Park\, 100 Ward Avenue\, Bellevue\, KY\, 41073\, United States
END:VEVENT
BEGIN:VEVENT
DTSTART;VALUE=DATE:20220611
DTEND;VALUE=DATE:20220612
DTSTAMP:20260424T022157
CREATED:20220328T141538Z
LAST-MODIFIED:20220328T141538Z
UID:22206-1654905600-1654991999@bellevueky.org
SUMMARY:CITY WIDE YARD SALE
DESCRIPTION:Yard Sale List   \n  \n 
URL:https://bellevueky.org/event/city-wide-yard-sale-2/
END:VEVENT
BEGIN:VEVENT
DTSTART;TZID=America/New_York:20220608T190000
DTEND;TZID=America/New_York:20220608T190000
DTSTAMP:20260424T022157
CREATED:20201214T142636Z
LAST-MODIFIED:20201214T142636Z
UID:11196-1654714800-1654714800@bellevueky.org
SUMMARY:Council Meeting
DESCRIPTION:Monthly on the second Wednesday
URL:https://bellevueky.org/event/council-meeting-2022-06-08/
LOCATION:→
END:VEVENT
BEGIN:VEVENT
DTSTART;TZID=America/New_York:20220603T170000
DTEND;TZID=America/New_York:20220603T210000
DTSTAMP:20260424T022157
CREATED:20220302T145203Z
LAST-MODIFIED:20220302T145203Z
UID:22143-1654275600-1654290000@bellevueky.org
SUMMARY:FOODIE FRIDAY - FOOD TRUCKS
DESCRIPTION:
URL:https://bellevueky.org/event/foodie-friday-food-trucks/
LOCATION:Fairfield Avenue\, Bellevue\, KY\, 41073\, United States
END:VEVENT
END:VCALENDAR