BEGIN:VCALENDAR
VERSION:2.0
PRODID:-//City of Bellevue, Ky - ECPv6.15.20//NONSGML v1.0//EN
CALSCALE:GREGORIAN
METHOD:PUBLISH
X-WR-CALNAME:City of Bellevue, Ky
X-ORIGINAL-URL:https://bellevueky.org
X-WR-CALDESC:Events for City of Bellevue, Ky
REFRESH-INTERVAL;VALUE=DURATION:PT1H
X-Robots-Tag:noindex
X-PUBLISHED-TTL:PT1H
BEGIN:VTIMEZONE
TZID:America/New_York
BEGIN:DAYLIGHT
TZOFFSETFROM:-0500
TZOFFSETTO:-0400
TZNAME:EDT
DTSTART:20220313T070000
END:DAYLIGHT
BEGIN:STANDARD
TZOFFSETFROM:-0400
TZOFFSETTO:-0500
TZNAME:EST
DTSTART:20221106T060000
END:STANDARD
BEGIN:DAYLIGHT
TZOFFSETFROM:-0500
TZOFFSETTO:-0400
TZNAME:EDT
DTSTART:20230312T070000
END:DAYLIGHT
BEGIN:STANDARD
TZOFFSETFROM:-0400
TZOFFSETTO:-0500
TZNAME:EST
DTSTART:20231105T060000
END:STANDARD
BEGIN:DAYLIGHT
TZOFFSETFROM:-0500
TZOFFSETTO:-0400
TZNAME:EDT
DTSTART:20240310T070000
END:DAYLIGHT
BEGIN:STANDARD
TZOFFSETFROM:-0400
TZOFFSETTO:-0500
TZNAME:EST
DTSTART:20241103T060000
END:STANDARD
END:VTIMEZONE
BEGIN:VEVENT
DTSTART;TZID=America/New_York:20230712T190000
DTEND;TZID=America/New_York:20230712T190000
DTSTAMP:20260419T101851
CREATED:20201214T142636Z
LAST-MODIFIED:20201214T142636Z
UID:21581-1689188400-1689188400@bellevueky.org
SUMMARY:Council Meeting
DESCRIPTION:Monthly on the second Wednesday
URL:https://bellevueky.org/event/council-meeting-2023-07-12/
LOCATION:→
END:VEVENT
BEGIN:VEVENT
DTSTART;TZID=America/New_York:20230712T150000
DTEND;TZID=America/New_York:20230712T160000
DTSTAMP:20260419T101851
CREATED:20230628T142330Z
LAST-MODIFIED:20230628T142330Z
UID:23122-1689174000-1689177600@bellevueky.org
SUMMARY:Tree Commission Meeting
DESCRIPTION:
URL:https://bellevueky.org/event/tree-commission-meeting-3/
LOCATION:Callahan Community Center\, 322 Van Voast
END:VEVENT
BEGIN:VEVENT
DTSTART;TZID=America/New_York:20230708T080000
DTEND;TZID=America/New_York:20230708T120000
DTSTAMP:20260419T101851
CREATED:20230605T133124Z
LAST-MODIFIED:20230605T133124Z
UID:23033-1688803200-1688817600@bellevueky.org
SUMMARY:Fairfield Mile
DESCRIPTION:
URL:https://bellevueky.org/event/fairfield-mile/
END:VEVENT
BEGIN:VEVENT
DTSTART;VALUE=DATE:20230708
DTEND;VALUE=DATE:20230709
DTSTAMP:20260419T101851
CREATED:20230201T160349Z
LAST-MODIFIED:20230201T160349Z
UID:22814-1688774400-1688860799@bellevueky.org
SUMMARY:Second Saturday Concert ft. The Belairs
DESCRIPTION:Includes Vendors: Cups and Cones\, West Sixth
URL:https://bellevueky.org/event/second-saturday-concert-ft-the-belairs/
LOCATION:Bellevue Beach Park\, 643-665 Frank Benke Way\, Bellevue\, Kentucky\, 41073
END:VEVENT
BEGIN:VEVENT
DTSTART;TZID=America/New_York:20230629T070000
DTEND;TZID=America/New_York:20230629T070000
DTSTAMP:20260419T101851
CREATED:20201214T141116Z
LAST-MODIFIED:20201214T141116Z
UID:21517-1688022000-1688022000@bellevueky.org
SUMMARY:Recycling day
DESCRIPTION:Every 2 weeks on Thursday
URL:https://bellevueky.org/event/recycling-day-2023-06-29/
END:VEVENT
BEGIN:VEVENT
DTSTART;TZID=America/New_York:20230625T170000
DTEND;TZID=America/New_York:20230625T170000
DTSTAMP:20260419T101851
CREATED:20230425T134220Z
LAST-MODIFIED:20230425T134220Z
UID:22989-1687712400-1687712400@bellevueky.org
SUMMARY:Potluck Dinner
DESCRIPTION:
URL:https://bellevueky.org/event/potluck-dinner-3/
END:VEVENT
BEGIN:VEVENT
DTSTART;TZID=America/New_York:20230621T180000
DTEND;TZID=America/New_York:20230621T180000
DTSTAMP:20260419T101851
CREATED:20230425T134112Z
LAST-MODIFIED:20230425T134112Z
UID:22987-1687370400-1687370400@bellevueky.org
SUMMARY:Fire Board Meeting
DESCRIPTION:
URL:https://bellevueky.org/event/fire-board-meeting-3/
LOCATION:Callahan Community Center\, 322 Van Voast
END:VEVENT
BEGIN:VEVENT
DTSTART;TZID=America/New_York:20230617T080000
DTEND;TZID=America/New_York:20230617T140000
DTSTAMP:20260419T101851
CREATED:20230329T142213Z
LAST-MODIFIED:20230329T142213Z
UID:22945-1686988800-1687010400@bellevueky.org
SUMMARY:Bellevue/Dayton Yard Sale
DESCRIPTION:Please contact the City at 859-431-8888 if you are interested in participating in the City-wide yard sale.
URL:https://bellevueky.org/event/bellevue-dayton-yard-sale/
END:VEVENT
BEGIN:VEVENT
DTSTART;TZID=America/New_York:20230615T070000
DTEND;TZID=America/New_York:20230615T070000
DTSTAMP:20260419T101851
CREATED:20201214T141116Z
LAST-MODIFIED:20201214T141116Z
UID:21464-1686812400-1686812400@bellevueky.org
SUMMARY:Recycling day
DESCRIPTION:Every 2 weeks on Thursday
URL:https://bellevueky.org/event/recycling-day-2023-06-15/
END:VEVENT
BEGIN:VEVENT
DTSTART;TZID=America/New_York:20230614T190000
DTEND;TZID=America/New_York:20230614T190000
DTSTAMP:20260419T101851
CREATED:20201214T142636Z
LAST-MODIFIED:20201214T142636Z
UID:21404-1686769200-1686769200@bellevueky.org
SUMMARY:Council Meeting
DESCRIPTION:Monthly on the second Wednesday
URL:https://bellevueky.org/event/council-meeting-2023-06-14/
LOCATION:→
END:VEVENT
BEGIN:VEVENT
DTSTART;TZID=America/New_York:20230610T190000
DTEND;TZID=America/New_York:20230610T213000
DTSTAMP:20260419T101851
CREATED:20230522T173035Z
LAST-MODIFIED:20230522T173035Z
UID:23021-1686423600-1686432600@bellevueky.org
SUMMARY:Second Saturday Concert w/ Abe's Lincoln
DESCRIPTION:
URL:https://bellevueky.org/event/second-saturday-concert-w-abes-lincoln/
LOCATION:Bellevue Beach Park\, 643-665 Frank Benke Way\, Bellevue\, Kentucky\, 41073
END:VEVENT
BEGIN:VEVENT
DTSTART;TZID=America/New_York:20230605T190000
DTEND;TZID=America/New_York:20230605T190000
DTSTAMP:20260419T101851
CREATED:20230425T134040Z
LAST-MODIFIED:20230425T134040Z
UID:22985-1685991600-1685991600@bellevueky.org
SUMMARY:Historic Preservation Meeting
DESCRIPTION:
URL:https://bellevueky.org/event/historic-preservation-meeting-7/
LOCATION:Callahan Community Center\, 322 Van Voast
END:VEVENT
BEGIN:VEVENT
DTSTART;TZID=America/New_York:20230602T170000
DTEND;TZID=America/New_York:20230602T170000
DTSTAMP:20260419T101851
CREATED:20230525T184944Z
LAST-MODIFIED:20230525T184944Z
UID:23025-1685725200-1685725200@bellevueky.org
SUMMARY:First Friday
DESCRIPTION:Foodie Friday! Get a taste of this… you\, your friends\, and… FOOD TRUCKS!
URL:https://bellevueky.org/event/first-friday-5/
END:VEVENT
BEGIN:VEVENT
DTSTART;TZID=America/New_York:20230601T070000
DTEND;TZID=America/New_York:20230601T070000
DTSTAMP:20260419T101851
CREATED:20201214T141116Z
LAST-MODIFIED:20201214T141116Z
UID:21403-1685602800-1685602800@bellevueky.org
SUMMARY:Recycling day
DESCRIPTION:Every 2 weeks on Thursday
URL:https://bellevueky.org/event/recycling-day-2023-06-01/
END:VEVENT
BEGIN:VEVENT
DTSTART;TZID=America/New_York:20230528T170000
DTEND;TZID=America/New_York:20230528T170000
DTSTAMP:20260419T101851
CREATED:20230425T133950Z
LAST-MODIFIED:20230425T133950Z
UID:22983-1685293200-1685293200@bellevueky.org
SUMMARY:Potluck Dinner
DESCRIPTION:
URL:https://bellevueky.org/event/potluck-dinner-2/
LOCATION:Callahan Community Center\, 322 Van Voast
END:VEVENT
BEGIN:VEVENT
DTSTART;TZID=America/New_York:20230525T190000
DTEND;TZID=America/New_York:20230525T190000
DTSTAMP:20260419T101851
CREATED:20230425T133846Z
LAST-MODIFIED:20230425T133846Z
UID:22979-1685041200-1685041200@bellevueky.org
SUMMARY:Code Hearing Board Meeting
DESCRIPTION:
URL:https://bellevueky.org/event/code-hearing-board-meeting/
END:VEVENT
BEGIN:VEVENT
DTSTART;TZID=America/New_York:20230525T100000
DTEND;TZID=America/New_York:20230525T230000
DTSTAMP:20260419T101851
CREATED:20230525T192024Z
LAST-MODIFIED:20230525T192024Z
UID:23027-1685008800-1685055600@bellevueky.org
SUMMARY:Memorial Day Parade
DESCRIPTION:Beginning at 616 Poplar Street and ending at Bellevue Vets. \n 
URL:https://bellevueky.org/event/memorial-day-parade/
END:VEVENT
BEGIN:VEVENT
DTSTART;TZID=America/New_York:20230518T070000
DTEND;TZID=America/New_York:20230518T070000
DTSTAMP:20260419T101851
CREATED:20201214T141116Z
LAST-MODIFIED:20201214T141116Z
UID:21319-1684393200-1684393200@bellevueky.org
SUMMARY:Recycling day
DESCRIPTION:Every 2 weeks on Thursday
URL:https://bellevueky.org/event/recycling-day-2023-05-18/
END:VEVENT
BEGIN:VEVENT
DTSTART;TZID=America/New_York:20230515T190000
DTEND;TZID=America/New_York:20230515T190000
DTSTAMP:20260419T101851
CREATED:20230425T133800Z
LAST-MODIFIED:20230425T133800Z
UID:22977-1684177200-1684177200@bellevueky.org
SUMMARY:Historic Preservation Meeting
DESCRIPTION:
URL:https://bellevueky.org/event/historic-preservation-meeting-6/
LOCATION:Callahan Community Center\, 322 Van Voast
END:VEVENT
BEGIN:VEVENT
DTSTART;TZID=America/New_York:20230510T190000
DTEND;TZID=America/New_York:20230510T190000
DTSTAMP:20260419T101851
CREATED:20201214T142636Z
LAST-MODIFIED:20201214T142636Z
UID:21262-1683745200-1683745200@bellevueky.org
SUMMARY:Council Meeting
DESCRIPTION:Monthly on the second Wednesday
URL:https://bellevueky.org/event/council-meeting-2023-05-10/
LOCATION:→
END:VEVENT
BEGIN:VEVENT
DTSTART;TZID=America/New_York:20230504T070000
DTEND;TZID=America/New_York:20230504T070000
DTSTAMP:20260419T101851
CREATED:20201214T141116Z
LAST-MODIFIED:20201214T141116Z
UID:21256-1683183600-1683183600@bellevueky.org
SUMMARY:Recycling day
DESCRIPTION:Every 2 weeks on Thursday
URL:https://bellevueky.org/event/recycling-day-2023-05-04/
END:VEVENT
BEGIN:VEVENT
DTSTART;TZID=America/New_York:20230430T170000
DTEND;TZID=America/New_York:20230430T170000
DTSTAMP:20260419T101851
CREATED:20230425T133914Z
LAST-MODIFIED:20230425T133914Z
UID:22981-1682874000-1682874000@bellevueky.org
SUMMARY:Potluck Dinner
DESCRIPTION:
URL:https://bellevueky.org/event/potluck-dinner/
LOCATION:Callahan Community Center\, 322 Van Voast
END:VEVENT
BEGIN:VEVENT
DTSTART;TZID=America/New_York:20230420T070000
DTEND;TZID=America/New_York:20230420T070000
DTSTAMP:20260419T101851
CREATED:20201214T141116Z
LAST-MODIFIED:20201214T141116Z
UID:21234-1681974000-1681974000@bellevueky.org
SUMMARY:Recycling day
DESCRIPTION:Every 2 weeks on Thursday
URL:https://bellevueky.org/event/recycling-day-2023-04-20/
END:VEVENT
BEGIN:VEVENT
DTSTART;TZID=America/New_York:20230412T190000
DTEND;TZID=America/New_York:20230412T190000
DTSTAMP:20260419T101851
CREATED:20201214T142636Z
LAST-MODIFIED:20201214T142636Z
UID:21225-1681326000-1681326000@bellevueky.org
SUMMARY:Council Meeting
DESCRIPTION:Monthly on the second Wednesday
URL:https://bellevueky.org/event/council-meeting-2023-04-12/
LOCATION:→
END:VEVENT
BEGIN:VEVENT
DTSTART;VALUE=DATE:20230407
DTEND;VALUE=DATE:20230415
DTSTAMP:20260419T101851
CREATED:20230303T154215Z
LAST-MODIFIED:20230303T154215Z
UID:22909-1680825600-1681516799@bellevueky.org
SUMMARY:Spring Clean Up
DESCRIPTION:
URL:https://bellevueky.org/event/spring-clean-up-3/
LOCATION:City of Bellevue 616 Poplar St.
END:VEVENT
BEGIN:VEVENT
DTSTART;TZID=America/New_York:20230406T070000
DTEND;TZID=America/New_York:20230406T070000
DTSTAMP:20260419T101851
CREATED:20201214T141116Z
LAST-MODIFIED:20201214T141116Z
UID:21197-1680764400-1680764400@bellevueky.org
SUMMARY:Recycling day
DESCRIPTION:Every 2 weeks on Thursday
URL:https://bellevueky.org/event/recycling-day-2023-04-06/
END:VEVENT
BEGIN:VEVENT
DTSTART;VALUE=DATE:20230330
DTEND;VALUE=DATE:20230331
DTSTAMP:20260419T101851
CREATED:20230227T200324Z
LAST-MODIFIED:20230227T200324Z
UID:22898-1680134400-1680220799@bellevueky.org
SUMMARY:Bellevue Police Department Training
DESCRIPTION:
URL:https://bellevueky.org/event/bellevue-police-department-training/
LOCATION:Callahan Community Center\, 322 Van Voast
END:VEVENT
BEGIN:VEVENT
DTSTART;TZID=America/New_York:20230328T200000
DTEND;TZID=America/New_York:20230328T220000
DTSTAMP:20260419T101851
CREATED:20230227T200229Z
LAST-MODIFIED:20230227T200229Z
UID:22896-1680033600-1680040800@bellevueky.org
SUMMARY:Bellevue Neighborhood Association Meeting
DESCRIPTION:
URL:https://bellevueky.org/event/bellevue-neighborhood-association-meeting-2/
LOCATION:Callahan Community Center\, 322 Van Voast
END:VEVENT
BEGIN:VEVENT
DTSTART;TZID=America/New_York:20230326T170000
DTEND;TZID=America/New_York:20230326T193000
DTSTAMP:20260419T101851
CREATED:20230227T200145Z
LAST-MODIFIED:20230227T200145Z
UID:22894-1679850000-1679859000@bellevueky.org
SUMMARY:Community Potluck
DESCRIPTION:
URL:https://bellevueky.org/event/community-potluck/
LOCATION:Callahan Community Center\, 322 Van Voast
END:VEVENT
BEGIN:VEVENT
DTSTART;TZID=America/New_York:20230323T190000
DTEND;TZID=America/New_York:20230323T210000
DTSTAMP:20260419T101851
CREATED:20230227T200105Z
LAST-MODIFIED:20230227T200105Z
UID:22892-1679598000-1679605200@bellevueky.org
SUMMARY:Code Board Hearing
DESCRIPTION:
URL:https://bellevueky.org/event/code-board-hearing-2/
LOCATION:Callahan Community Center\, 322 Van Voast
END:VEVENT
END:VCALENDAR