BEGIN:VCALENDAR
VERSION:2.0
PRODID:-//City of Bellevue, Ky - ECPv6.15.20//NONSGML v1.0//EN
CALSCALE:GREGORIAN
METHOD:PUBLISH
X-WR-CALNAME:City of Bellevue, Ky
X-ORIGINAL-URL:https://bellevueky.org
X-WR-CALDESC:Events for City of Bellevue, Ky
REFRESH-INTERVAL;VALUE=DURATION:PT1H
X-Robots-Tag:noindex
X-PUBLISHED-TTL:PT1H
BEGIN:VTIMEZONE
TZID:America/Kentucky/Louisville
BEGIN:DAYLIGHT
TZOFFSETFROM:-0500
TZOFFSETTO:-0400
TZNAME:EDT
DTSTART:20240310T070000
END:DAYLIGHT
BEGIN:STANDARD
TZOFFSETFROM:-0400
TZOFFSETTO:-0500
TZNAME:EST
DTSTART:20241103T060000
END:STANDARD
BEGIN:DAYLIGHT
TZOFFSETFROM:-0500
TZOFFSETTO:-0400
TZNAME:EDT
DTSTART:20250309T070000
END:DAYLIGHT
BEGIN:STANDARD
TZOFFSETFROM:-0400
TZOFFSETTO:-0500
TZNAME:EST
DTSTART:20251102T060000
END:STANDARD
BEGIN:DAYLIGHT
TZOFFSETFROM:-0500
TZOFFSETTO:-0400
TZNAME:EDT
DTSTART:20260308T070000
END:DAYLIGHT
BEGIN:STANDARD
TZOFFSETFROM:-0400
TZOFFSETTO:-0500
TZNAME:EST
DTSTART:20261101T060000
END:STANDARD
END:VTIMEZONE
BEGIN:VEVENT
DTSTART;TZID=America/Kentucky/Louisville:20250901T080000
DTEND;TZID=America/Kentucky/Louisville:20250901T163000
DTSTAMP:20260420T014231
CREATED:20250829T151655Z
LAST-MODIFIED:20250829T151818Z
UID:27505-1756713600-1756744200@bellevueky.org
SUMMARY:City Building Closed on Labor Day
DESCRIPTION:The Bellevue City Building will be closed Monday\, September 1\, in observance of Labor Day. Regular hours will resume Tuesday\, September 2.
URL:https://bellevueky.org/event/city-building-closed-on-labor-day/
END:VEVENT
BEGIN:VEVENT
DTSTART;TZID=America/Kentucky/Louisville:20250903T160000
DTEND;TZID=America/Kentucky/Louisville:20250903T170000
DTSTAMP:20260420T014231
CREATED:20250903T144439Z
LAST-MODIFIED:20250903T144439Z
UID:27508-1756915200-1756918800@bellevueky.org
SUMMARY:Tree Commission | 4pm
DESCRIPTION:The Tree Commission will meet on Wednesday\, September 3 at 4pm in the Callahan Community Center. Please see attached for additional meeting information. Tree Commission Agenda 9-3-25.docx
URL:https://bellevueky.org/event/tree-commission-4pm-2/
LOCATION:Callahan Community Center\, 322 Van Voast
END:VEVENT
BEGIN:VEVENT
DTSTART;TZID=America/Kentucky/Louisville:20250905T180000
DTEND;TZID=America/Kentucky/Louisville:20250905T183000
DTSTAMP:20260420T014231
CREATED:20250903T193548Z
LAST-MODIFIED:20250903T193554Z
UID:27511-1757095200-1757097000@bellevueky.org
SUMMARY:Ribbon Cutting: Mrs. Teapots Tea Room | 6pm
DESCRIPTION:Please join us as we welcome the new owners of Mrs. Teapots Tea Room with a ribbon cutting on Friday\, September 5 at 6pm.
URL:https://bellevueky.org/event/ribbon-cutting-mrs-teapots-tea-room-6pm/
END:VEVENT
BEGIN:VEVENT
DTSTART;TZID=America/Kentucky/Louisville:20250905T180000
DTEND;TZID=America/Kentucky/Louisville:20250905T210000
DTSTAMP:20260420T014231
CREATED:20250709T155300Z
LAST-MODIFIED:20250709T155300Z
UID:27383-1757095200-1757106000@bellevueky.org
SUMMARY:First Friday: Bourbon & Bell(e)vue | 6pm
DESCRIPTION:Come sip\, shop\, and stroll along Fairfield Avenue for our First Fridays 6-9pm! Check out more about our B In Vue Businesses at the link.
URL:https://bellevueky.org/event/first-friday-bourbon-bellevue-6pm/
LOCATION:Fairfield Avenue\, Bellevue\, KY\, 41073\, United States
END:VEVENT
BEGIN:VEVENT
DTSTART;TZID=America/Kentucky/Louisville:20250910T184500
DTEND;TZID=America/Kentucky/Louisville:20250910T190000
DTSTAMP:20260420T014231
CREATED:20250829T151228Z
LAST-MODIFIED:20250829T151228Z
UID:27503-1757529900-1757530800@bellevueky.org
SUMMARY:Public Meeting: Tax Rate | 6:45pm
DESCRIPTION:There will be a meeting prior the September Council meeting to discuss the Tax Rate. This will be open for public comment. The meeting will take place at 6:45pm at the Callahan Community Center.
URL:https://bellevueky.org/event/public-meeting-tax-rate-645pm/
LOCATION:Callahan Community Center\, 322 Van Voast
END:VEVENT
BEGIN:VEVENT
DTSTART;TZID=America/Kentucky/Louisville:20250910T190000
DTEND;TZID=America/Kentucky/Louisville:20250910T200000
DTSTAMP:20260420T014231
CREATED:20250428T192459Z
LAST-MODIFIED:20250908T160258Z
UID:27213-1757530800-1757534400@bellevueky.org
SUMMARY:City Council Meeting | 7pm
DESCRIPTION:City Council will meet on Wednesday\, September 10 at 7pm in the Callahan Community Center. Please see attached for additional meeting information. September Council Packet
URL:https://bellevueky.org/event/city-council-meeting-8/
LOCATION:Callahan Community Center\, 322 Van Voast
END:VEVENT
BEGIN:VEVENT
DTSTART;TZID=America/Kentucky/Louisville:20250913T100000
DTEND;TZID=America/Kentucky/Louisville:20250913T170000
DTSTAMP:20260420T014231
CREATED:20250807T135706Z
LAST-MODIFIED:20250807T135706Z
UID:27458-1757757600-1757782800@bellevueky.org
SUMMARY:Art In The Park | 10am
DESCRIPTION:Join Bellevue Art in the Park for fine art and craft show Sep.13\, 2025 10am-5pm at Bellevue Beach Park.
URL:https://bellevueky.org/event/art-in-the-park-10am/
LOCATION:Bellevue Beach Park\, 643-665 Frank Benke Way\, Bellevue\, Kentucky\, 41073
END:VEVENT
BEGIN:VEVENT
DTSTART;TZID=America/Kentucky/Louisville:20250913T190000
DTEND;TZID=America/Kentucky/Louisville:20250913T213000
DTSTAMP:20260420T014231
CREATED:20250605T172049Z
LAST-MODIFIED:20250708T132642Z
UID:27266-1757790000-1757799000@bellevueky.org
SUMMARY:Second Saturday Concert
DESCRIPTION:
URL:https://bellevueky.org/event/second-saturday-concert-4/
LOCATION:Bellevue Beach Park\, 643-665 Frank Benke Way\, Bellevue\, Kentucky\, 41073
END:VEVENT
BEGIN:VEVENT
DTSTART;TZID=America/Kentucky/Louisville:20250921T100000
DTEND;TZID=America/Kentucky/Louisville:20250921T140000
DTSTAMP:20260420T014231
CREATED:20250327T125543Z
LAST-MODIFIED:20250708T132753Z
UID:27138-1758448800-1758463200@bellevueky.org
SUMMARY:Farmers Market | 10am
DESCRIPTION:
URL:https://bellevueky.org/event/farmers-market-7/
LOCATION:Bellevue Beach Park\, 643-665 Frank Benke Way\, Bellevue\, Kentucky\, 41073
ATTACH;FMTTYPE=image/png:https://bellevueky.org/wp-content/uploads/2025/03/2.png
END:VEVENT
BEGIN:VEVENT
DTSTART;TZID=America/Kentucky/Louisville:20250925T190000
DTEND;TZID=America/Kentucky/Louisville:20250925T200000
DTSTAMP:20260420T014231
CREATED:20250918T171941Z
LAST-MODIFIED:20250918T172115Z
UID:27534-1758826800-1758830400@bellevueky.org
SUMMARY:Code Enforcement Board | 7pm
DESCRIPTION:The Code Enforcement Board will meet on Thursday\, Spetember 25 at 7pm in the Callahan Community Center. Please see the attached document for additional information. 9.25.2025 CEB Agenda
URL:https://bellevueky.org/event/code-enforcement-board-7pm-3/
LOCATION:Callahan Community Center\, 322 Van Voast
END:VEVENT
END:VCALENDAR