BEGIN:VCALENDAR
VERSION:2.0
PRODID:-//City of Bellevue, Ky - ECPv6.15.20//NONSGML v1.0//EN
CALSCALE:GREGORIAN
METHOD:PUBLISH
X-WR-CALNAME:City of Bellevue, Ky
X-ORIGINAL-URL:https://bellevueky.org
X-WR-CALDESC:Events for City of Bellevue, Ky
REFRESH-INTERVAL;VALUE=DURATION:PT1H
X-Robots-Tag:noindex
X-PUBLISHED-TTL:PT1H
BEGIN:VTIMEZONE
TZID:America/Kentucky/Louisville
BEGIN:DAYLIGHT
TZOFFSETFROM:-0500
TZOFFSETTO:-0400
TZNAME:EDT
DTSTART:20250309T070000
END:DAYLIGHT
BEGIN:STANDARD
TZOFFSETFROM:-0400
TZOFFSETTO:-0500
TZNAME:EST
DTSTART:20251102T060000
END:STANDARD
BEGIN:DAYLIGHT
TZOFFSETFROM:-0500
TZOFFSETTO:-0400
TZNAME:EDT
DTSTART:20260308T070000
END:DAYLIGHT
BEGIN:STANDARD
TZOFFSETFROM:-0400
TZOFFSETTO:-0500
TZNAME:EST
DTSTART:20261101T060000
END:STANDARD
BEGIN:DAYLIGHT
TZOFFSETFROM:-0500
TZOFFSETTO:-0400
TZNAME:EDT
DTSTART:20270314T070000
END:DAYLIGHT
BEGIN:STANDARD
TZOFFSETFROM:-0400
TZOFFSETTO:-0500
TZNAME:EST
DTSTART:20271107T060000
END:STANDARD
END:VTIMEZONE
BEGIN:VEVENT
DTSTART;TZID=America/Kentucky/Louisville:20260803T190000
DTEND;TZID=America/Kentucky/Louisville:20260803T200000
DTSTAMP:20260421T005317
CREATED:20251230T161518Z
LAST-MODIFIED:20251230T161518Z
UID:27992-1785783600-1785787200@bellevueky.org
SUMMARY:Board of Adjustments | 7pm
DESCRIPTION:Board of Adjustment meets on the first Monday of each month at 7pm. Please check back each month as meetings can be rescheduled or canceled.
URL:https://bellevueky.org/event/board-of-adjustments-7pm-10/
LOCATION:Callahan Community Center\, 322 Van Voast
END:VEVENT
BEGIN:VEVENT
DTSTART;TZID=America/Kentucky/Louisville:20260805T163000
DTEND;TZID=America/Kentucky/Louisville:20260805T173000
DTSTAMP:20260421T005317
CREATED:20260120T162100Z
LAST-MODIFIED:20260120T162100Z
UID:28151-1785947400-1785951000@bellevueky.org
SUMMARY:Tree Commission | 4:30pm
DESCRIPTION:The Tree Commission will meet in the Callahan Community Center at 4:30pm on the first Wednesday of every month.
URL:https://bellevueky.org/event/tree-commission-430pm-7/
LOCATION:Callahan Community Center\, 322 Van Voast
END:VEVENT
BEGIN:VEVENT
DTSTART;TZID=America/Kentucky/Louisville:20260807T180000
DTEND;TZID=America/Kentucky/Louisville:20260807T210000
DTSTAMP:20260421T005317
CREATED:20260302T142142Z
LAST-MODIFIED:20260414T155851Z
UID:28295-1786125600-1786136400@bellevueky.org
SUMMARY:First Friday: Margarita Vue | 6pm
DESCRIPTION:Come sip\, shop\, and stroll along Fairfield Avenue for our First Fridays 6-9pm! Check out more about our B In Vue Businesses at the link.
URL:https://bellevueky.org/event/first-friday-6pm-5/
LOCATION:Fairfield Avenue\, Bellevue\, KY\, 41073\, United States
END:VEVENT
BEGIN:VEVENT
DTSTART;TZID=America/Kentucky/Louisville:20260808T193000
DTEND;TZID=America/Kentucky/Louisville:20260808T210000
DTSTAMP:20260421T005317
CREATED:20260127T162313Z
LAST-MODIFIED:20260316T161211Z
UID:28196-1786217400-1786222800@bellevueky.org
SUMMARY:Second Saturday Concert | 7:30pm
DESCRIPTION:Join us June through September at Bellevue Beach Park for live music\, food trucks\, cold drinks from our beer vendor\, and sweet dessert treats. Bring your lawn chairs\, blankets\, and your favorite people\, and enjoy the good vibes all summer long along the river.
URL:https://bellevueky.org/event/second-saturday-concert-7pm-3/
LOCATION:Bellevue Beach Park\, 643-665 Frank Benke Way\, Bellevue\, Kentucky\, 41073
END:VEVENT
BEGIN:VEVENT
DTSTART;TZID=America/Kentucky/Louisville:20260812T190000
DTEND;TZID=America/Kentucky/Louisville:20260812T200000
DTSTAMP:20260421T005317
CREATED:20251230T191644Z
LAST-MODIFIED:20251230T191644Z
UID:28063-1786561200-1786564800@bellevueky.org
SUMMARY:City Council | 7pm
DESCRIPTION:City Council meets on the second Wednesday of every month at 7pm. Please check back each month as meetings can be rescheduled or canceled.
URL:https://bellevueky.org/event/city-council-7pm-8/
LOCATION:Callahan Community Center\, 322 Van Voast
END:VEVENT
BEGIN:VEVENT
DTSTART;TZID=America/Kentucky/Louisville:20260821T080000
DTEND;TZID=America/Kentucky/Louisville:20260822T170000
DTSTAMP:20260421T005317
CREATED:20260414T160007Z
LAST-MODIFIED:20260414T160007Z
UID:28417-1787299200-1787418000@bellevueky.org
SUMMARY:Rock The River | August 21-22
DESCRIPTION:
URL:https://bellevueky.org/event/rock-the-river-august-21-22/
LOCATION:Bellevue Beach Park\, 643-665 Frank Benke Way\, Bellevue\, Kentucky\, 41073
END:VEVENT
BEGIN:VEVENT
DTSTART;TZID=America/Kentucky/Louisville:20260824T190000
DTEND;TZID=America/Kentucky/Louisville:20260824T200000
DTSTAMP:20260421T005317
CREATED:20251230T162653Z
LAST-MODIFIED:20251230T162653Z
UID:28016-1787598000-1787601600@bellevueky.org
SUMMARY:Planning & Zoning | 7pm
DESCRIPTION:Planning & Zoning meets on the fourth Monday of each month at 7pm. Please check back each month as meetings can be rescheduled or canceled.
URL:https://bellevueky.org/event/planning-zoning-7pm-8/
LOCATION:Callahan Community Center\, 322 Van Voast
END:VEVENT
BEGIN:VEVENT
DTSTART;TZID=America/Kentucky/Louisville:20260827T190000
DTEND;TZID=America/Kentucky/Louisville:20260827T200000
DTSTAMP:20260421T005317
CREATED:20251230T190712Z
LAST-MODIFIED:20251230T190712Z
UID:28040-1787857200-1787860800@bellevueky.org
SUMMARY:Code Enforcement Board | 7pm
DESCRIPTION:Code Enforcement Board meets on the fourth Thursday of each month at 7pm. Please check back each month as meetings can be rescheduled or canceled.
URL:https://bellevueky.org/event/code-enforcement-board-7pm-12/
LOCATION:Callahan Community Center\, 322 Van Voast
END:VEVENT
END:VCALENDAR