BEGIN:VCALENDAR
VERSION:2.0
PRODID:-//City of Bellevue, Ky - ECPv6.15.20//NONSGML v1.0//EN
CALSCALE:GREGORIAN
METHOD:PUBLISH
X-ORIGINAL-URL:https://bellevueky.org
X-WR-CALDESC:Events for City of Bellevue, Ky
REFRESH-INTERVAL;VALUE=DURATION:PT1H
X-Robots-Tag:noindex
X-PUBLISHED-TTL:PT1H
BEGIN:VTIMEZONE
TZID:America/Kentucky/Louisville
BEGIN:DAYLIGHT
TZOFFSETFROM:-0500
TZOFFSETTO:-0400
TZNAME:EDT
DTSTART:20250309T070000
END:DAYLIGHT
BEGIN:STANDARD
TZOFFSETFROM:-0400
TZOFFSETTO:-0500
TZNAME:EST
DTSTART:20251102T060000
END:STANDARD
BEGIN:DAYLIGHT
TZOFFSETFROM:-0500
TZOFFSETTO:-0400
TZNAME:EDT
DTSTART:20260308T070000
END:DAYLIGHT
BEGIN:STANDARD
TZOFFSETFROM:-0400
TZOFFSETTO:-0500
TZNAME:EST
DTSTART:20261101T060000
END:STANDARD
BEGIN:DAYLIGHT
TZOFFSETFROM:-0500
TZOFFSETTO:-0400
TZNAME:EDT
DTSTART:20270314T070000
END:DAYLIGHT
BEGIN:STANDARD
TZOFFSETFROM:-0400
TZOFFSETTO:-0500
TZNAME:EST
DTSTART:20271107T060000
END:STANDARD
END:VTIMEZONE
BEGIN:VEVENT
DTSTART;TZID=America/Kentucky/Louisville:20260902T163000
DTEND;TZID=America/Kentucky/Louisville:20260902T173000
DTSTAMP:20260421T232350
CREATED:20260120T162126Z
LAST-MODIFIED:20260120T162126Z
UID:28153-1788366600-1788370200@bellevueky.org
SUMMARY:Tree Commission | 4:30pm
DESCRIPTION:The Tree Commission will meet in the Callahan Community Center at 4:30pm on the first Wednesday of every month.
URL:https://bellevueky.org/event/tree-commission-430pm-8/
LOCATION:Callahan Community Center\, 322 Van Voast
END:VEVENT
BEGIN:VEVENT
DTSTART;TZID=America/Kentucky/Louisville:20260904T180000
DTEND;TZID=America/Kentucky/Louisville:20260904T210000
DTSTAMP:20260421T232350
CREATED:20260302T142221Z
LAST-MODIFIED:20260302T142221Z
UID:28297-1788544800-1788555600@bellevueky.org
SUMMARY:First Friday | 6pm
DESCRIPTION:Come sip\, shop\, and stroll along Fairfield Avenue for our First Fridays 6-9pm! Check out more about our B In Vue Businesses at the link.
URL:https://bellevueky.org/event/first-friday-6pm-6/
LOCATION:Fairfield Avenue\, Bellevue\, KY\, 41073\, United States
END:VEVENT
BEGIN:VEVENT
DTSTART;VALUE=DATE:20260907
DTEND;VALUE=DATE:20260908
DTSTAMP:20260421T232350
CREATED:20251112T162133Z
LAST-MODIFIED:20251112T162143Z
UID:27776-1788739200-1788825599@bellevueky.org
SUMMARY:City Building Closed
DESCRIPTION:The City Building will be closed in observation of Labor Day.
URL:https://bellevueky.org/event/27776/
LOCATION:KY
END:VEVENT
BEGIN:VEVENT
DTSTART;TZID=America/Kentucky/Louisville:20260907T190000
DTEND;TZID=America/Kentucky/Louisville:20260907T200000
DTSTAMP:20260421T232350
CREATED:20251230T161600Z
LAST-MODIFIED:20251230T161600Z
UID:27994-1788807600-1788811200@bellevueky.org
SUMMARY:Board of Adjustments | 7pm
DESCRIPTION:Board of Adjustment meets on the first Monday of each month at 7pm. Please check back each month as meetings can be rescheduled or canceled.
URL:https://bellevueky.org/event/board-of-adjustments-7pm-11/
LOCATION:Callahan Community Center\, 322 Van Voast
END:VEVENT
BEGIN:VEVENT
DTSTART;TZID=America/Kentucky/Louisville:20260908T110000
DTEND;TZID=America/Kentucky/Louisville:20260908T150000
DTSTAMP:20260421T232350
CREATED:20260421T144843Z
LAST-MODIFIED:20260421T145007Z
UID:28426-1788865200-1788879600@bellevueky.org
SUMMARY:Senior Luncheon: Talk Derby to Me! | 11am
DESCRIPTION:The City invites residents ages 55 and older to its annual Senior Luncheon\, themed “Talk Derby to Me!” This year’s event will take place from 11am-3pm at the Carpenter Art Enamel Museum and promises an afternoon of food\, fun\, and community connection. Guests can enjoy a provided lunch\, themed entertainment\, bingo\, and door prizes\, all while celebrating the spirit of the Derby with friends and neighbors. RSVP is required\, and all eligible Bellevue seniors are encouraged to attend for a lively and engaging day. \n  \nTo RSVP\, please email or call Sam Shelton at sam.shelton@bellevueky.org or call 859-292-4220 to get added to the list.
URL:https://bellevueky.org/event/senior-luncheon-talk-derby-to-me-11am/
LOCATION:Carpenter Art Enamel Museum\, 645 Colfax Ave.\, Bellevue\, KY\, 41073\, United States
END:VEVENT
BEGIN:VEVENT
DTSTART;TZID=America/Kentucky/Louisville:20260909T190000
DTEND;TZID=America/Kentucky/Louisville:20260909T200000
DTSTAMP:20260421T232350
CREATED:20251230T191736Z
LAST-MODIFIED:20251230T191736Z
UID:28065-1788980400-1788984000@bellevueky.org
SUMMARY:City Council | 7pm
DESCRIPTION:City Council meets on the second Wednesday of every month at 7pm. Please check back each month as meetings can be rescheduled or canceled.
URL:https://bellevueky.org/event/city-council-7pm-9/
LOCATION:Callahan Community Center\, 322 Van Voast
END:VEVENT
BEGIN:VEVENT
DTSTART;TZID=America/Kentucky/Louisville:20260912T100000
DTEND;TZID=America/Kentucky/Louisville:20260912T170000
DTSTAMP:20260421T232350
CREATED:20260310T145904Z
LAST-MODIFIED:20260310T145918Z
UID:28338-1789207200-1789232400@bellevueky.org
SUMMARY:Art in the Park | 10am
DESCRIPTION:Join Bellevue Art in the Park for fine art and craft show Sep.12\, 2026 10am-5pm at Bellevue Beach Park.
URL:https://bellevueky.org/event/art-in-the-park-10am-2/
LOCATION:Bellevue Beach Park\, 643-665 Frank Benke Way\, Bellevue\, Kentucky\, 41073
END:VEVENT
BEGIN:VEVENT
DTSTART;TZID=America/Kentucky/Louisville:20260912T193000
DTEND;TZID=America/Kentucky/Louisville:20260912T210000
DTSTAMP:20260421T232350
CREATED:20260127T162349Z
LAST-MODIFIED:20260316T161233Z
UID:28198-1789241400-1789246800@bellevueky.org
SUMMARY:Second Saturday Concert | 7:30pm
DESCRIPTION:Join us June through September at Bellevue Beach Park for live music\, food trucks\, cold drinks from our beer vendor\, and sweet dessert treats. Bring your lawn chairs\, blankets\, and your favorite people\, and enjoy the good vibes all summer long along the river.
URL:https://bellevueky.org/event/second-saturday-concert-7pm-4/
LOCATION:Bellevue Beach Park\, 643-665 Frank Benke Way\, Bellevue\, Kentucky\, 41073
END:VEVENT
BEGIN:VEVENT
DTSTART;TZID=America/Kentucky/Louisville:20260924T190000
DTEND;TZID=America/Kentucky/Louisville:20260924T200000
DTSTAMP:20260421T232350
CREATED:20251230T190743Z
LAST-MODIFIED:20251230T190743Z
UID:28042-1790276400-1790280000@bellevueky.org
SUMMARY:Code Enforcement Board | 7pm
DESCRIPTION:Code Enforcement Board meets on the fourth Thursday of each month at 7pm. Please check back each month as meetings can be rescheduled or canceled.
URL:https://bellevueky.org/event/code-enforcement-board-7pm-13/
LOCATION:Callahan Community Center\, 322 Van Voast
END:VEVENT
BEGIN:VEVENT
DTSTART;TZID=America/Kentucky/Louisville:20260928T190000
DTEND;TZID=America/Kentucky/Louisville:20260928T200000
DTSTAMP:20260421T232350
CREATED:20251230T162725Z
LAST-MODIFIED:20251230T162725Z
UID:28018-1790622000-1790625600@bellevueky.org
SUMMARY:Planning & Zoning | 7pm
DESCRIPTION:Planning & Zoning meets on the fourth Monday of each month at 7pm. Please check back each month as meetings can be rescheduled or canceled.
URL:https://bellevueky.org/event/planning-zoning-7pm-9/
LOCATION:Callahan Community Center\, 322 Van Voast
END:VEVENT
END:VCALENDAR